BEGIN:VCALENDAR
VERSION:2.0
PRODID:-//Beer.be - ECPv6.15.20//NONSGML v1.0//EN
CALSCALE:GREGORIAN
METHOD:PUBLISH
X-ORIGINAL-URL:https://beer.be
X-WR-CALDESC:Évènements pour Beer.be
REFRESH-INTERVAL;VALUE=DURATION:PT1H
X-Robots-Tag:noindex
X-PUBLISHED-TTL:PT1H
BEGIN:VTIMEZONE
TZID:Europe/Brussels
BEGIN:DAYLIGHT
TZOFFSETFROM:+0100
TZOFFSETTO:+0200
TZNAME:CEST
DTSTART:20190331T010000
END:DAYLIGHT
BEGIN:STANDARD
TZOFFSETFROM:+0200
TZOFFSETTO:+0100
TZNAME:CET
DTSTART:20191027T010000
END:STANDARD
BEGIN:DAYLIGHT
TZOFFSETFROM:+0100
TZOFFSETTO:+0200
TZNAME:CEST
DTSTART:20200329T010000
END:DAYLIGHT
BEGIN:STANDARD
TZOFFSETFROM:+0200
TZOFFSETTO:+0100
TZNAME:CET
DTSTART:20201025T010000
END:STANDARD
BEGIN:DAYLIGHT
TZOFFSETFROM:+0100
TZOFFSETTO:+0200
TZNAME:CEST
DTSTART:20210328T010000
END:DAYLIGHT
BEGIN:STANDARD
TZOFFSETFROM:+0200
TZOFFSETTO:+0100
TZNAME:CET
DTSTART:20211031T010000
END:STANDARD
END:VTIMEZONE
BEGIN:VEVENT
DTSTART;VALUE=DATE:20201001
DTEND;VALUE=DATE:20201005
DTSTAMP:20260423T142311
CREATED:20201002T092415Z
LAST-MODIFIED:20201002T092415Z
UID:15887-1601510400-1601855999@beer.be
SUMMARY:Hops & Games
DESCRIPTION:To celebrate all things hoppy\, we’re holding a weekend tap takeover\, featuring our favourite breweries!  5 taps from 5 different breweries. 35+ cans from 12 breweries.\nAll the hoppy\, juicy goodness you could want. And of course\, enjoy this magnificent selection of beers with friends over some boardgames ! \nTap line up from Northern Monk (UK)\, North Brew (UK)\, Brasserie Surrealiste (Bxl)\, Dry & Bitter (Denmark) and Vocation (UK).\nFridges full of beers from Garage Beer Co (Spain)\, Northern Monk (UK)\, L’Ermitage (Bxl)\, North Brew Co (UK)\, Cloudwater (UK)\, La Source (Bxl)\, Boundary (N. Ireland)\, Collective Arts (Canada)\, Brussels Beer Project\, North Brew Co. (UK) and Track (UK) plus more!\nWe’ll also be doing a special cocktail in collaboration with the guys at Surréaliste\, capturing everything we love about juicy IPAs in a cocktail! \nA huge range of all sorts of hoppy beers\, Triple IPAs\, Double IPAs\, Double Dry Hopped Double IPAs\, Sessions\, New England IPAs\, Hazy Pale Ales etc… We’ve got all bases covered\, with some special limited releases.
URL:https://beer.be/agenda/hops-games/
LOCATION:La Luck\, 74 rue Washington\, Bruxelles\, 1050\, Belgique
CATEGORIES:Autre
ATTACH;FMTTYPE=image/jpeg:https://beer.be/wp-content/uploads/2020/10/120443365_712195769376394_5117103372039700796_o.jpg
END:VEVENT
END:VCALENDAR