BEGIN:VCALENDAR
VERSION:2.0
PRODID:-//Beer.be - ECPv6.15.20//NONSGML v1.0//EN
CALSCALE:GREGORIAN
METHOD:PUBLISH
X-WR-CALNAME:Beer.be
X-ORIGINAL-URL:https://beer.be
X-WR-CALDESC:Évènements pour Beer.be
REFRESH-INTERVAL;VALUE=DURATION:PT1H
X-Robots-Tag:noindex
X-PUBLISHED-TTL:PT1H
BEGIN:VTIMEZONE
TZID:Europe/Brussels
BEGIN:DAYLIGHT
TZOFFSETFROM:+0100
TZOFFSETTO:+0200
TZNAME:CEST
DTSTART:20200329T010000
END:DAYLIGHT
BEGIN:STANDARD
TZOFFSETFROM:+0200
TZOFFSETTO:+0100
TZNAME:CET
DTSTART:20201025T010000
END:STANDARD
BEGIN:DAYLIGHT
TZOFFSETFROM:+0100
TZOFFSETTO:+0200
TZNAME:CEST
DTSTART:20210328T010000
END:DAYLIGHT
BEGIN:STANDARD
TZOFFSETFROM:+0200
TZOFFSETTO:+0100
TZNAME:CET
DTSTART:20211031T010000
END:STANDARD
BEGIN:DAYLIGHT
TZOFFSETFROM:+0100
TZOFFSETTO:+0200
TZNAME:CEST
DTSTART:20220327T010000
END:DAYLIGHT
BEGIN:STANDARD
TZOFFSETFROM:+0200
TZOFFSETTO:+0100
TZNAME:CET
DTSTART:20221030T010000
END:STANDARD
END:VTIMEZONE
BEGIN:VEVENT
DTSTART;VALUE=DATE:20211203
DTEND;VALUE=DATE:20211204
DTSTAMP:20260422T175135
CREATED:20211130T173849Z
LAST-MODIFIED:20211130T173849Z
UID:18442-1638489600-1638575999@beer.be
SUMMARY:Alma Tree (folk pop / BE)
DESCRIPTION:Alma Tree est un nouveau projet né des retrouvailles entre deux musicien.ne.s\, Alice Vande Voorde (Kùzylarsen\, La Chiva Gantiva\,...) et Max Engels (Emine Total\, Noma Project\,..) autour des compositions de ce dernier. Baigné.e.s depuis leur plus tendre enfance par la culture musicale anglo-saxonne\, et nourri.e.s par leurs nombreuses pérégrinations musicales autour du monde (Grèce\, Roumanie\, Irlande...)\, Alma Tree éveille par ces mélodies envoûtantes une douce mélancolie\, une saudade dans la langue de Shakespeare... On y parle de l'intime\, de sentiments mystérieux et profonds\, de la confrontation avec soi-même\, mais toujours vers des horizons porteurs d'espoirs... Un voyage où l'on se pose sans savoir quand l'on repartira.\n\nhttp://instagram.com/almatreemusic\nhttp://facebook.com/almatreemusic
URL:https://beer.be/agenda/alma-tree-folk-pop-be/
CATEGORIES:Concert
ATTACH;FMTTYPE=image/jpeg:https://beer.be/wp-content/uploads/2021/11/261445269_376179407633183_5715286101365170998_n.jpg
END:VEVENT
BEGIN:VEVENT
DTSTART;VALUE=DATE:20211204
DTEND;VALUE=DATE:20211205
DTSTAMP:20260422T175135
CREATED:20211002T091817Z
LAST-MODIFIED:20211002T091817Z
UID:17826-1638576000-1638662399@beer.be
SUMMARY:The Carvins
DESCRIPTION:
URL:https://beer.be/agenda/the-carvins/
CATEGORIES:Concert
ATTACH;FMTTYPE=image/jpeg:https://beer.be/wp-content/uploads/2021/10/243637896_336128331638291_1232107471330488393_n.jpg
END:VEVENT
BEGIN:VEVENT
DTSTART;VALUE=DATE:20211204
DTEND;VALUE=DATE:20211205
DTSTAMP:20260422T175135
CREATED:20211130T181115Z
LAST-MODIFIED:20211130T181115Z
UID:18462-1638576000-1638662399@beer.be
SUMMARY:G.MASSA (pop/rap - BE)
DESCRIPTION:Gabriel Massa (aka G.MASSA) est un rappeur multi-instrumentiste bruxellois\nFollow G.MASSA :\nhttps://www.instagram.com/g_massa_prod/\nhttps://www.facebook.com/g.massa.prod/\nhttps://www.youtube.com/MrMassaMr/
URL:https://beer.be/agenda/g-massa-pop-rap-be/
CATEGORIES:Concert
ATTACH;FMTTYPE=image/jpeg:https://beer.be/wp-content/uploads/2021/11/262543189_376217407629383_7482955471608200178_n.jpg
END:VEVENT
BEGIN:VEVENT
DTSTART;VALUE=DATE:20211209
DTEND;VALUE=DATE:20211210
DTSTAMP:20260422T175135
CREATED:20211118T075251Z
LAST-MODIFIED:20211118T075251Z
UID:18258-1639008000-1639094399@beer.be
SUMMARY:La Malanguita - Fiesta latina à la Brasserie de la Mule
DESCRIPTION:La Malanguita de Bruxelles (Issu de La Malanga)\nhttps://www.facebook.com/laMalangaBrussels\nAccès gratuit !\nUn groupe de salsa concocté avec 2 percussions\, piano\, flûte et une voix tropicale!\nLa flûtiste Line Daenen vous a concocté une nouvelle recette\, variation de « La Malanga » issu-du nom d’une des cette racine délicieuse qui grandit dans les terres du sud.\nLa Malanguita de Bruxelles\, c’est le stoemp du soleil\, c’est le mélange des racines. Ah non peut-être è que si senor\, en voilà des qui ont la patate !\nCe groupe de salsa sait y faire quand il s’agit d’envoyer la purée. ils s’inspirent de l’hiver pour retrouver l’été. Ils font monter la sève des bouleaux aux rythme des palmiers\, ajoutent aux nuages des saveurs sucrées\, transforment la drache en saison des pluies et changent les rhumes en rhums!\nLa Malanguita va vous faire revenir à la sauce tropicale. Avec ces cuistots là\, vous serez choyés aux petits oignons\, fris dans l'huile de soleil\, sautés dans un jus de piment\, grisés de trop d’émotions\, car c’est bien connu\, quand la Malanguita a la patate\, on repart avec la banane !\nGuillaume Codutti: Congas\nOdimba Ghenda: Bongo\, cloches;\nDavid Ramos Torres: piano\nLine Daenen: flûte\nAlexandra Moldovan: chant\nEn partenariat avec :\nhttps://www.facebook.com/groups/MusicinSCHA/\nhttps://www.facebook.com/brasseriedelamule\nhttps://www.facebook.com/plateforme50
URL:https://beer.be/agenda/la-malanguita-fiesta-latina-a-la-brasserie-de-la-mule/
CATEGORIES:Concert
ATTACH;FMTTYPE=image/jpeg:https://beer.be/wp-content/uploads/2021/11/255211930_3165989387012734_8847372774351438495_n.jpg
END:VEVENT
BEGIN:VEVENT
DTSTART;VALUE=DATE:20211218
DTEND;VALUE=DATE:20211219
DTSTAMP:20260422T175135
CREATED:20211019T045359Z
LAST-MODIFIED:20211019T045359Z
UID:18034-1639785600-1639871999@beer.be
SUMMARY:The Pigeons
DESCRIPTION:Pigeons from Brussels playing punchy ska-reggae.\nhttps://www.facebook.com/thepigeons.bxl
URL:https://beer.be/agenda/the-pigeons/
CATEGORIES:Concert
ATTACH;FMTTYPE=image/jpeg:https://beer.be/wp-content/uploads/2021/10/245331303_346125447305246_7635955650768479657_n.jpg
END:VEVENT
BEGIN:VEVENT
DTSTART;VALUE=DATE:20211223
DTEND;VALUE=DATE:20211224
DTSTAMP:20260422T175135
CREATED:20211119T125339Z
LAST-MODIFIED:20211119T125339Z
UID:18271-1640217600-1640303999@beer.be
SUMMARY:Girls Go Ska (Mexico)
DESCRIPTION:Seis brujas y un poeta haciendo ska y reggae.\nSix witches and a poet making ska and reggae.\nSix sorcières et une poétesse jouant du ska et du reggae.\n-"Souledad" Arredondo (main vocals and tenor sax)\n-Arlet Morán (alto sax and vocals)\n-Elizabeth Piña (tenor sax)\n-Daniela Mecalco (electric bass)\n-Jocelin Nieto (percussion and vocals)\n-Mariela Sánchez (drums)\n-"Rima" Yamir (electric guitar and vocals)\nhttps://www.facebook.com/girlsgoska\nhttps://girlsgoska1.bandcamp.com/\nhttps://www.instagram.com/girlsgoska/\nhttps://www.youtube.com/user/GirlsGoSka\nFREE ENTRANCE - NO ACCESS WITHOUT COVID SAFE TICKET.\nSupport by Muzik 1030 Bar\, La Commune de Schaerbeek\, Brussels Live Music Bars.
URL:https://beer.be/agenda/girls-go-ska-mexico/
CATEGORIES:Concert
ATTACH;FMTTYPE=image/jpeg:https://beer.be/wp-content/uploads/2021/11/258742215_368309051753552_382732634868348236_n-scaled.jpg
END:VEVENT
BEGIN:VEVENT
DTSTART;VALUE=DATE:20211223
DTEND;VALUE=DATE:20211224
DTSTAMP:20260422T175135
CREATED:20211206T054311Z
LAST-MODIFIED:20211206T054311Z
UID:18526-1640217600-1640303999@beer.be
SUMMARY:On sket' les tanks avant les congés !
DESCRIPTION:Objectif on dézingue les futs branchés\, on essaie de finir un ou peut-être deux tanks si vous êtes en forme ? Dernière occasion de venir chercher vos t-shirts\, verres\, canettes avant les congés. 6 bières\, un verre\, un t-shirt dans un magnifique emballage en papier-carton recyclé afin de garnir vos jolis sapin de noël. Prix promotionnels sur toutes les bières branchés  Glouglouglou !
URL:https://beer.be/agenda/on-sket-les-tanks-avant-les-conges/
CATEGORIES:Brasserie
ATTACH;FMTTYPE=image/jpeg:https://beer.be/wp-content/uploads/2021/12/263453965_379308063986984_2184316796362317802_n.jpg
END:VEVENT
END:VCALENDAR