BEGIN:VCALENDAR
VERSION:2.0
PRODID:-//Beer.be - ECPv6.15.20//NONSGML v1.0//EN
CALSCALE:GREGORIAN
METHOD:PUBLISH
X-WR-CALNAME:Beer.be
X-ORIGINAL-URL:https://beer.be
X-WR-CALDESC:Évènements pour Beer.be
REFRESH-INTERVAL;VALUE=DURATION:PT1H
X-Robots-Tag:noindex
X-PUBLISHED-TTL:PT1H
BEGIN:VTIMEZONE
TZID:Europe/Brussels
BEGIN:DAYLIGHT
TZOFFSETFROM:+0100
TZOFFSETTO:+0200
TZNAME:CEST
DTSTART:20200329T010000
END:DAYLIGHT
BEGIN:STANDARD
TZOFFSETFROM:+0200
TZOFFSETTO:+0100
TZNAME:CET
DTSTART:20201025T010000
END:STANDARD
BEGIN:DAYLIGHT
TZOFFSETFROM:+0100
TZOFFSETTO:+0200
TZNAME:CEST
DTSTART:20210328T010000
END:DAYLIGHT
BEGIN:STANDARD
TZOFFSETFROM:+0200
TZOFFSETTO:+0100
TZNAME:CET
DTSTART:20211031T010000
END:STANDARD
BEGIN:DAYLIGHT
TZOFFSETFROM:+0100
TZOFFSETTO:+0200
TZNAME:CEST
DTSTART:20220327T010000
END:DAYLIGHT
BEGIN:STANDARD
TZOFFSETFROM:+0200
TZOFFSETTO:+0100
TZNAME:CET
DTSTART:20221030T010000
END:STANDARD
END:VTIMEZONE
BEGIN:VEVENT
DTSTART;VALUE=DATE:20210903
DTEND;VALUE=DATE:20210904
DTSTAMP:20260424T140429
CREATED:20210902T074912Z
LAST-MODIFIED:20210902T074912Z
UID:17514-1630627200-1630713599@beer.be
SUMMARY:MAD
DESCRIPTION:
URL:https://beer.be/agenda/mad/
LOCATION:La Source Beer Co.\, 4 rue Dieudonné Lefèvre\, Bruxelles\, 1020\, Belgique
CATEGORIES:Concert
ATTACH;FMTTYPE=image/jpeg:https://beer.be/wp-content/uploads/2021/09/241137950_941750033050032_5479074711073094525_n.jpg
END:VEVENT
BEGIN:VEVENT
DTSTART;VALUE=DATE:20210909
DTEND;VALUE=DATE:20210910
DTSTAMP:20260424T140429
CREATED:20210903T084303Z
LAST-MODIFIED:20210903T084303Z
UID:17526-1631145600-1631231999@beer.be
SUMMARY:LA SOURCE // TAP TAKEOVER & MEET THE BREWER
DESCRIPTION:We’re so excited to finally welcome our friends from La Source for a tap takeover and meet the brewer evening!\n As any regular at La Luck will know\, we’re huge fans of @lasourcebeerco. With news and exciting beers being released all the time\, it’s easy to fall in love with them. We never fail to be impressed with their beers\, which are the most exciting craft brews in Belgium.\n~\n Not yet had the pleasure to discover their beers? Well\, located in Brussels and active since October 2019\, La Source is an artisanal and creative microbrewery that brews a whole host of exciting beers. Making up their offering\, there’s IPAs\, sours\, wild beers\, seasonal releases\, barrel aged beers and much more. You won’t fail to find something that tickles your fancy.\n~\nWhat do we have in store for you?!\n\n TAP TAKEOVER - 6 beers on tap from La Source\, a fridge full to the brim with many different offerings from them. We’ll have something for every taste\, that’s for sure. Stay tuned to our Instagram for the announcement of our tap line up. We’ll even have some exclusive beers\, not available anywhere else!\n\n MEET THE BREWER - we’ve got the pleasured to be joined by the brewers and team from La Source for the evening! They’ll be on hand to say hi\, answer any questions about their incredible beers and most importantly\, to drink a beer with.\n~\nWhat do you have to do now?\n Book a table! Head directly to our website to reserve your place.\n\nCan you still play board games?\n Of course. Our board game sommeliers are at your disposal as always\, to help you discover games from our selection of over 450 different games. Please specify in your booking that you wish to play games.\n\nBEER SHOP\n All beers available during the evening will be able to takeaway. Our fridge will be fully stocked with fresh beers.
URL:https://beer.be/agenda/la-source-tap-takeover-meet-the-brewer/
LOCATION:La Luck\, 74 rue Washington\, Bruxelles\, 1050\, Belgique
CATEGORIES:Tap Takeover
ATTACH;FMTTYPE=image/jpeg:https://beer.be/wp-content/uploads/2021/09/241126505_915159419080027_2958425798025803351_n.jpg
END:VEVENT
BEGIN:VEVENT
DTSTART;VALUE=DATE:20210917
DTEND;VALUE=DATE:20210918
DTSTAMP:20260424T140429
CREATED:20210903T094635Z
LAST-MODIFIED:20210903T094635Z
UID:17534-1631836800-1631923199@beer.be
SUMMARY:CHOOLERS DIVISION + BIG HORSE + CESAR PALACE + REVSUS VERSUS SUSVER
DESCRIPTION:CHOOLERS DIVISION +\nBIG HORSE +\nCESAR PALACE +\nREVSUS VERSUS SUSVER\n------------------------------------\nCHOOLERS DIVISION:\nhttps://choolersdivision.bandcamp.com/\nhttps://www.youtube.com/watch?v=DrOkrhERDHU\nBIG HORSE\nhttps://bighorseonemanband.bandcamp.com/album/well-well-well\nhttps://www.youtube.com/watch?v=SSJyrtmJQa0\nCESAR PALACE\nhttps://cesarpalace.bandcamp.com/\nhttps://youtu.be/600z78xICIc\nREVSUS VERSUS SUSVER\nhttps://youtu.be/7l8cSJ0OKvc\n------------------------------------\nTIME to be announced\n------------------------------------\nFREE CONCERT\nprésentation du Covid Safe Ticket*\nSANS RESERVATION\n------------------------------------\n* Covid Safe Ticket > app CovidSafeBE ou papier\ntest PCR négatif valide\nou\ntest Antigenique négatif valide\nou\nvaccination
URL:https://beer.be/agenda/choolers-division-big-horse-cesar-palace-revsus-versus-susver/
LOCATION:La Source Beer Co.\, 4 rue Dieudonné Lefèvre\, Bruxelles\, 1020\, Belgique
CATEGORIES:Concert
ATTACH;FMTTYPE=image/jpeg:https://beer.be/wp-content/uploads/2021/09/241339312_942878546270514_4958826722848270175_n.jpg
END:VEVENT
BEGIN:VEVENT
DTSTART;VALUE=DATE:20210929
DTEND;VALUE=DATE:20210930
DTSTAMP:20260424T140429
CREATED:20210922T060352Z
LAST-MODIFIED:20210922T060352Z
UID:17721-1632873600-1632959999@beer.be
SUMMARY:Achille's Bitter Release Party
DESCRIPTION:Yes\, we are a natural wine bar.\nYes we are a wine bar that serves a lotta of food.\nYes\, we are a wine bar that has had a beautiful house beer brewed for us by our fizzy friends from La Source Beer Co.\nSo...let's have a one hell of a party for the occasion!!! :\nDEFI J Dj Set 17:00-21:00\nCESAR PALACE Live 21:00-22:00\nMICKEY Dj Set 22:00-partytime
URL:https://beer.be/agenda/achilles-bitter-release-party/
LOCATION:Achille\, Place Colignon\, Bruxelles\, 1030\, Belgique
CATEGORIES:Autre
ATTACH;FMTTYPE=image/jpeg:https://beer.be/wp-content/uploads/2021/09/242526343_362844912235253_7273542156469737486_n.jpg
END:VEVENT
BEGIN:VEVENT
DTSTART;VALUE=DATE:20210930
DTEND;VALUE=DATE:20211001
DTSTAMP:20260424T140429
CREATED:20210928T044702Z
LAST-MODIFIED:20210928T044702Z
UID:17757-1632960000-1633046399@beer.be
SUMMARY:TACOS & BEER pairing
DESCRIPTION:Manu prépare les tacos\, nous nous occupons des rafraîchissements!
URL:https://beer.be/agenda/tacos-beer-pairing/
LOCATION:La Source Beer Co.\, 4 rue Dieudonné Lefèvre\, Bruxelles\, 1020\, Belgique
CATEGORIES:Dégustation
ATTACH;FMTTYPE=image/jpeg:https://beer.be/wp-content/uploads/2021/09/242808196_955612024997166_8755584705682386938_n.jpg
END:VEVENT
END:VCALENDAR