BEGIN:VCALENDAR
VERSION:2.0
PRODID:-//Beer.be - ECPv6.15.20//NONSGML v1.0//EN
CALSCALE:GREGORIAN
METHOD:PUBLISH
X-WR-CALNAME:Beer.be
X-ORIGINAL-URL:https://beer.be
X-WR-CALDESC:Évènements pour Beer.be
REFRESH-INTERVAL;VALUE=DURATION:PT1H
X-Robots-Tag:noindex
X-PUBLISHED-TTL:PT1H
BEGIN:VTIMEZONE
TZID:Europe/Brussels
BEGIN:DAYLIGHT
TZOFFSETFROM:+0100
TZOFFSETTO:+0200
TZNAME:CEST
DTSTART:20190331T010000
END:DAYLIGHT
BEGIN:STANDARD
TZOFFSETFROM:+0200
TZOFFSETTO:+0100
TZNAME:CET
DTSTART:20191027T010000
END:STANDARD
BEGIN:DAYLIGHT
TZOFFSETFROM:+0100
TZOFFSETTO:+0200
TZNAME:CEST
DTSTART:20200329T010000
END:DAYLIGHT
BEGIN:STANDARD
TZOFFSETFROM:+0200
TZOFFSETTO:+0100
TZNAME:CET
DTSTART:20201025T010000
END:STANDARD
BEGIN:DAYLIGHT
TZOFFSETFROM:+0100
TZOFFSETTO:+0200
TZNAME:CEST
DTSTART:20210328T010000
END:DAYLIGHT
BEGIN:STANDARD
TZOFFSETFROM:+0200
TZOFFSETTO:+0100
TZNAME:CET
DTSTART:20211031T010000
END:STANDARD
END:VTIMEZONE
BEGIN:VEVENT
DTSTART;VALUE=DATE:20200214
DTEND;VALUE=DATE:20200215
DTSTAMP:20260422T144801
CREATED:20200130T190449Z
LAST-MODIFIED:20200130T190449Z
UID:15002-1581638400-1581724799@beer.be
SUMMARY:L'Amoureux - Triple Release Party
DESCRIPTION:L’Amoureux est une pale ale fermentée en cuve inox et dans un foudre italien ayant précédemment contenu du Sangiovese. La fin de fermentation et la maturation de 6 mois en foudre a permis aux levures indigènes de se développer tout en apportant des arômes fruités et vineux qui offrent une toute autre dimension à cette pale pale de foudre. Nous en avons fait 3 versions\, chacune houblonnée à froid avec un houblon différent. \n* Citra Noble\n* Hallertau Blanc\n* Nelson Sauvin \nSortie officielle le 14 février à la taproom de la brasserie\, à L'Ermitage Saint-Gilles et chez nos amis de Blaes\, pour notre premier tap takeover au pays de Liège. Pour l'évènement les 3 versions seront disponibles au fut à la taproom et à l'Ermitage Saint-Gilles. Des coffrets comprenant les 3 versions en bouteille de 75cl seront également disponibles (uniquement sur place à la brasserie).
URL:https://beer.be/agenda/lamoureux-triple-release-party/
LOCATION:Nanobrasserie de l'Ermitage\, 28 rue Lambert Crickx\, Bruxelles\, 1070\, Belgique
CATEGORIES:Autre
ATTACH;FMTTYPE=image/jpeg:https://beer.be/wp-content/uploads/2020/01/84400880_2436094303161577_8144497413403443200_o.jpg
END:VEVENT
END:VCALENDAR