BEGIN:VCALENDAR
VERSION:2.0
PRODID:-//Beer.be - ECPv6.15.20//NONSGML v1.0//EN
CALSCALE:GREGORIAN
METHOD:PUBLISH
X-WR-CALNAME:Beer.be
X-ORIGINAL-URL:https://beer.be
X-WR-CALDESC:Évènements pour Beer.be
REFRESH-INTERVAL;VALUE=DURATION:PT1H
X-Robots-Tag:noindex
X-PUBLISHED-TTL:PT1H
BEGIN:VTIMEZONE
TZID:Europe/Brussels
BEGIN:DAYLIGHT
TZOFFSETFROM:+0100
TZOFFSETTO:+0200
TZNAME:CEST
DTSTART:20180325T010000
END:DAYLIGHT
BEGIN:STANDARD
TZOFFSETFROM:+0200
TZOFFSETTO:+0100
TZNAME:CET
DTSTART:20181028T010000
END:STANDARD
BEGIN:DAYLIGHT
TZOFFSETFROM:+0100
TZOFFSETTO:+0200
TZNAME:CEST
DTSTART:20190331T010000
END:DAYLIGHT
BEGIN:STANDARD
TZOFFSETFROM:+0200
TZOFFSETTO:+0100
TZNAME:CET
DTSTART:20191027T010000
END:STANDARD
BEGIN:DAYLIGHT
TZOFFSETFROM:+0100
TZOFFSETTO:+0200
TZNAME:CEST
DTSTART:20200329T010000
END:DAYLIGHT
BEGIN:STANDARD
TZOFFSETFROM:+0200
TZOFFSETTO:+0100
TZNAME:CET
DTSTART:20201025T010000
END:STANDARD
END:VTIMEZONE
BEGIN:VEVENT
DTSTART;VALUE=DATE:20190320
DTEND;VALUE=DATE:20190321
DTSTAMP:20260423T040955
CREATED:20190318T130636Z
LAST-MODIFIED:20190318T130636Z
UID:13565-1553040000-1553126399@beer.be
SUMMARY:Dégustation de bières - Bruxelles
DESCRIPTION:Mercredi 20 mars\, L'Échappée Bière vous propose une dégustation de bières originale et ludique sous forme de quizz ! Challenge et amusement garantis ! Le principe ? 5 bières servies à l'aveugle. A chaque bière goûtée correspond un quizz ! A vous de retrouver la robe de la bière (pas évident\, dans des verres opaques)\, sa teneur en alcool\, ses arômes mais aussi le style dans lequel la classer etc etc…. Vous imaginez certainement que l’exercice n’est pas si compliqué. Mais on vous promet des surprises. Il faut dire qu’on aime bien jouer\, nous aussi ?
URL:https://beer.be/agenda/degustation-de-bieres-bruxelles/
LOCATION:Brasserie Caulier\, 134 rue de Sondeville\, Péruwelz\, 7600\, Belgique
CATEGORIES:Dégustation
ATTACH;FMTTYPE=image/jpeg:https://beer.be/wp-content/uploads/2019/03/52715534_1860717317367960_1812413694252941312_o.jpg
END:VEVENT
END:VCALENDAR