BEGIN:VCALENDAR
VERSION:2.0
PRODID:-//Beer.be - ECPv6.15.20//NONSGML v1.0//EN
CALSCALE:GREGORIAN
METHOD:PUBLISH
X-WR-CALNAME:Beer.be
X-ORIGINAL-URL:https://beer.be
X-WR-CALDESC:Évènements pour Beer.be
REFRESH-INTERVAL;VALUE=DURATION:PT1H
X-Robots-Tag:noindex
X-PUBLISHED-TTL:PT1H
BEGIN:VTIMEZONE
TZID:Europe/Brussels
BEGIN:DAYLIGHT
TZOFFSETFROM:+0100
TZOFFSETTO:+0200
TZNAME:CEST
DTSTART:20200329T010000
END:DAYLIGHT
BEGIN:STANDARD
TZOFFSETFROM:+0200
TZOFFSETTO:+0100
TZNAME:CET
DTSTART:20201025T010000
END:STANDARD
BEGIN:DAYLIGHT
TZOFFSETFROM:+0100
TZOFFSETTO:+0200
TZNAME:CEST
DTSTART:20210328T010000
END:DAYLIGHT
BEGIN:STANDARD
TZOFFSETFROM:+0200
TZOFFSETTO:+0100
TZNAME:CET
DTSTART:20211031T010000
END:STANDARD
BEGIN:DAYLIGHT
TZOFFSETFROM:+0100
TZOFFSETTO:+0200
TZNAME:CEST
DTSTART:20220327T010000
END:DAYLIGHT
BEGIN:STANDARD
TZOFFSETFROM:+0200
TZOFFSETTO:+0100
TZNAME:CET
DTSTART:20221030T010000
END:STANDARD
END:VTIMEZONE
BEGIN:VEVENT
DTSTART;VALUE=DATE:20211006
DTEND;VALUE=DATE:20211008
DTSTAMP:20260421T002242
CREATED:20211005T054117Z
LAST-MODIFIED:20211005T054117Z
UID:17832-1633478400-1633651199@beer.be
SUMMARY:Nazdrovje Russia Beer Release
DESCRIPTION:Mid week beer release. With over 15 new beers from Russia. Big Nazdrovje to that!\nStamm Brewing\nXP Brew\nSelfmade Brewing\nGet ready for a mix of fresh IPAs and a crazy selection of heavily fruited Sour Ales.\nWe've got one extra beer on the taps:\nStamm Brewing - The Vibes (Juicy Pale Ale)
URL:https://beer.be/agenda/nazdrovje-russia-beer-release/
CATEGORIES:Autre
ATTACH;FMTTYPE=image/jpeg:https://beer.be/wp-content/uploads/2021/10/243892017_403998701320462_8851827980246203235_n.jpg
END:VEVENT
BEGIN:VEVENT
DTSTART;VALUE=DATE:20211015
DTEND;VALUE=DATE:20211016
DTSTAMP:20260421T002242
CREATED:20210906T053110Z
LAST-MODIFIED:20210906T053110Z
UID:17550-1634256000-1634342399@beer.be
SUMMARY:NOVA RUNDA - MEET THE BREWER
DESCRIPTION:Ever wanted to chat to the brains behind the brews? Nova Runda\, one of Croatia's best craft breweries\, is coming to Belgium for a beer trip and series of tap takeovers. They will come to Leuven for some good vibes\, share some beers at the shop and tell you more about the brewery and beers. We'll have some new Nova Runda releases.
URL:https://beer.be/agenda/nova-runda-meet-the-brewer/
CATEGORIES:Tap Takeover
ATTACH;FMTTYPE=image/jpeg:https://beer.be/wp-content/uploads/2021/09/241048067_383575396696126_9135834700951558616_n.jpg
END:VEVENT
BEGIN:VEVENT
DTSTART;VALUE=DATE:20211029
DTEND;VALUE=DATE:20211031
DTSTAMP:20260421T002242
CREATED:20211019T044441Z
LAST-MODIFIED:20211019T044441Z
UID:18024-1635465600-1635638399@beer.be
SUMMARY:THE GARDEN 5TH BIRTHDAY PARTY
DESCRIPTION:The Garden Brewery (Croatia) turns 5!\nTo celebrate they’ve made 5 amazing collab beers with 5 of their favourite breweries and friends from around the world: Lervig (Stavanger\, Norway)\, Stillwater (New York\, USA)\, Basqueland (San Sebastian\, Spain)\, One Drop (Sydney\, Australia) and Budapest Beer Week (one of our favourite beer festivals in the world).\nWe will have 3 beers on draft and more in cans. We will spoil you with free goodies and merchandise.\nTAPS\n1. Double Imperial Chocolate Cheesecake Stout\, Lervig Collab.\nEXCLUSIVE in Leuven.\n2. New England IPA: Spectrum\, Basqueland collab\n3. Peach\, Nectarine & Camomille Bière de Garde\, Stillwater USA collab
URL:https://beer.be/agenda/the-garden-5th-birthday-party/
CATEGORIES:Tap Takeover
ATTACH;FMTTYPE=image/jpeg:https://beer.be/wp-content/uploads/2021/10/246181903_413044250415907_4302400867641830630_n.jpg
END:VEVENT
END:VCALENDAR