BEGIN:VCALENDAR
VERSION:2.0
PRODID:-//Beer.be - ECPv6.15.20//NONSGML v1.0//EN
CALSCALE:GREGORIAN
METHOD:PUBLISH
X-WR-CALNAME:Beer.be
X-ORIGINAL-URL:https://beer.be
X-WR-CALDESC:Évènements pour Beer.be
REFRESH-INTERVAL;VALUE=DURATION:PT1H
X-Robots-Tag:noindex
X-PUBLISHED-TTL:PT1H
BEGIN:VTIMEZONE
TZID:Europe/Brussels
BEGIN:DAYLIGHT
TZOFFSETFROM:+0100
TZOFFSETTO:+0200
TZNAME:CEST
DTSTART:20200329T010000
END:DAYLIGHT
BEGIN:STANDARD
TZOFFSETFROM:+0200
TZOFFSETTO:+0100
TZNAME:CET
DTSTART:20201025T010000
END:STANDARD
BEGIN:DAYLIGHT
TZOFFSETFROM:+0100
TZOFFSETTO:+0200
TZNAME:CEST
DTSTART:20210328T010000
END:DAYLIGHT
BEGIN:STANDARD
TZOFFSETFROM:+0200
TZOFFSETTO:+0100
TZNAME:CET
DTSTART:20211031T010000
END:STANDARD
BEGIN:DAYLIGHT
TZOFFSETFROM:+0100
TZOFFSETTO:+0200
TZNAME:CEST
DTSTART:20220327T010000
END:DAYLIGHT
BEGIN:STANDARD
TZOFFSETFROM:+0200
TZOFFSETTO:+0100
TZNAME:CET
DTSTART:20221030T010000
END:STANDARD
END:VTIMEZONE
BEGIN:VEVENT
DTSTART;VALUE=DATE:20211126
DTEND;VALUE=DATE:20211128
DTSTAMP:20260420T230248
CREATED:20211124T063857Z
LAST-MODIFIED:20211124T063857Z
UID:18305-1637884800-1638057599@beer.be
SUMMARY:BLACK FRIDAY DARKNESS WEEKEND
DESCRIPTION:Winter is coming. For the Black Friday event\, the shop is taken over by Laugar Brewery (Spain) & Friends with... Plenty of dark beers! Heavy warming sippers\, stouts\, porters\, barleywines and more... We will pair it with some tasty desserts from Sarah Renson and cheese platters from Kazen Elsen.\n\nTAP LIST\n1. Laugar - Aurrera Stanitsa Bourbon BA\n2. Laugar - Aupa Tovarisch Porto BA\n3. Laugar - Tovarisch Scotch Whisky BA\n4. Marble - Old Ale Amontillado BA\n5. Struise - TBD\n& MORE TO COME\nSee you on the DARK SIDE!
URL:https://beer.be/agenda/black-friday-darkness-weekend/
CATEGORIES:Tap Takeover
ATTACH;FMTTYPE=image/jpeg:https://beer.be/wp-content/uploads/2021/11/245856934_411619580558374_5710542611670165106_n.jpg
END:VEVENT
END:VCALENDAR