BEGIN:VCALENDAR
VERSION:2.0
PRODID:-//Beer.be - ECPv6.15.20//NONSGML v1.0//EN
CALSCALE:GREGORIAN
METHOD:PUBLISH
X-WR-CALNAME:Beer.be
X-ORIGINAL-URL:https://beer.be
X-WR-CALDESC:Évènements pour Beer.be
REFRESH-INTERVAL;VALUE=DURATION:PT1H
X-Robots-Tag:noindex
X-PUBLISHED-TTL:PT1H
BEGIN:VTIMEZONE
TZID:Europe/Brussels
BEGIN:DAYLIGHT
TZOFFSETFROM:+0100
TZOFFSETTO:+0200
TZNAME:CEST
DTSTART:20200329T010000
END:DAYLIGHT
BEGIN:STANDARD
TZOFFSETFROM:+0200
TZOFFSETTO:+0100
TZNAME:CET
DTSTART:20201025T010000
END:STANDARD
BEGIN:DAYLIGHT
TZOFFSETFROM:+0100
TZOFFSETTO:+0200
TZNAME:CEST
DTSTART:20210328T010000
END:DAYLIGHT
BEGIN:STANDARD
TZOFFSETFROM:+0200
TZOFFSETTO:+0100
TZNAME:CET
DTSTART:20211031T010000
END:STANDARD
BEGIN:DAYLIGHT
TZOFFSETFROM:+0100
TZOFFSETTO:+0200
TZNAME:CEST
DTSTART:20220327T010000
END:DAYLIGHT
BEGIN:STANDARD
TZOFFSETFROM:+0200
TZOFFSETTO:+0100
TZNAME:CET
DTSTART:20221030T010000
END:STANDARD
END:VTIMEZONE
BEGIN:VEVENT
DTSTART;VALUE=DATE:20211204
DTEND;VALUE=DATE:20211205
DTSTAMP:20260420T214747
CREATED:20211124T063502Z
LAST-MODIFIED:20211124T063502Z
UID:18297-1638576000-1638662399@beer.be
SUMMARY:Winters Bierfestival
DESCRIPTION:We hebben weer het één en ander in petto dit jaar. Een assortiment van wel 50 winterse bieren en aan de knorrende magen wordt ook gedacht.\nDit jaar kan je een drankkaart aan goedkoper tarief reserveren\nSchrijf 8 euro over op rekeningnummer\nBE82 6528 3329 6568\nBegunstigde De Dijleschuimers\nMededeling: Winters Bierfestival + naam\nEr ligt dan een kaart op 4 december met een waarde van 10 euro op je te wachten aan de kassa. Opgelet! Gelimiteerd tot één kaart per persoon.\nReserveer snel je kaart aan gunstig tarief 
URL:https://beer.be/agenda/winters-bierfestival/
LOCATION:Genadedal\, 2A Velderblok\, Louvain\, Belgique
CATEGORIES:Festival
ATTACH;FMTTYPE=image/jpeg:https://beer.be/wp-content/uploads/2021/11/244440734_4263601743736642_8448841596173963911_n.jpg
END:VEVENT
BEGIN:VEVENT
DTSTART;VALUE=DATE:20211212
DTEND;VALUE=DATE:20211213
DTSTAMP:20260420T214747
CREATED:20211124T064245Z
LAST-MODIFIED:20211124T064245Z
UID:18314-1639267200-1639353599@beer.be
SUMMARY:Sunday Christmas Shopping & Happy Hour
DESCRIPTION:In december openen we de 3 zondagen voor Kerstmis onze deuren.\nSpring binnen om een tof kerstgeschenk te kiezen voor je geliefden\, familie en vrienden. We hebben cadeau's in verschillende formules en voor ieders budget!\nOf kom lekker wat bieren proeven op ons overdekt terras.\nSpeciaal voor die zondagen doen we ook nog enkele leuke promo's:\n++ 10% Korting op alle Belgische bieren (33cl)\n++ HAPPY HOUR op alle onze tapbieren tijdens de Shopping zondag. 2 + 1 gratis!
URL:https://beer.be/agenda/sunday-christmas-shopping-happy-hour/
CATEGORIES:Autre
ATTACH;FMTTYPE=image/jpeg:https://beer.be/wp-content/uploads/2021/11/259640121_435734451480220_9100824767127300606_n.jpg
END:VEVENT
END:VCALENDAR