BEGIN:VCALENDAR
VERSION:2.0
PRODID:-//Beer.be - ECPv6.15.20//NONSGML v1.0//EN
CALSCALE:GREGORIAN
METHOD:PUBLISH
X-ORIGINAL-URL:https://beer.be
X-WR-CALDESC:Évènements pour Beer.be
REFRESH-INTERVAL;VALUE=DURATION:PT1H
X-Robots-Tag:noindex
X-PUBLISHED-TTL:PT1H
BEGIN:VTIMEZONE
TZID:Europe/Brussels
BEGIN:DAYLIGHT
TZOFFSETFROM:+0100
TZOFFSETTO:+0200
TZNAME:CEST
DTSTART:20190331T010000
END:DAYLIGHT
BEGIN:STANDARD
TZOFFSETFROM:+0200
TZOFFSETTO:+0100
TZNAME:CET
DTSTART:20191027T010000
END:STANDARD
BEGIN:DAYLIGHT
TZOFFSETFROM:+0100
TZOFFSETTO:+0200
TZNAME:CEST
DTSTART:20200329T010000
END:DAYLIGHT
BEGIN:STANDARD
TZOFFSETFROM:+0200
TZOFFSETTO:+0100
TZNAME:CET
DTSTART:20201025T010000
END:STANDARD
BEGIN:DAYLIGHT
TZOFFSETFROM:+0100
TZOFFSETTO:+0200
TZNAME:CEST
DTSTART:20210328T010000
END:DAYLIGHT
BEGIN:STANDARD
TZOFFSETFROM:+0200
TZOFFSETTO:+0100
TZNAME:CET
DTSTART:20211031T010000
END:STANDARD
END:VTIMEZONE
BEGIN:VEVENT
DTSTART;VALUE=DATE:20200314
DTEND;VALUE=DATE:20200315
DTSTAMP:20260422T080439
CREATED:20200211T173958Z
LAST-MODIFIED:20200211T173958Z
UID:15073-1584144000-1584230399@beer.be
SUMMARY:Léopold 7 fête ses 7 ans !
DESCRIPTION:Léopold 7 a l'énooooooorme plaisir de vous convier à fêter ses 7 ans à la Brasserie\, le samedi 14 mars prochain ! 👉 Bookez dès à présent la date de cette journée-soirée-anniversaire qui débutera dès 14h et durera.... jusqu'aux petites heures de la nuit ! Nous vous attendons nombreux\, petits et grands ! 🍻\nAu programme : ⚡Bar Léopold 7 / Foodtrucks sucrés et salés / Concerts / Dégustations / Visites / Photomaton... et de nombreuses surprises à découvrir au fur et à mesure d'ici le jour J !
URL:https://beer.be/agenda/leopold-7-fete-ses-7-ans/
LOCATION:Léopold 7\, 17 rue de la Médaille\, Liège\, 4218\, Belgique
CATEGORIES:Brasserie
ATTACH;FMTTYPE=image/jpeg:https://beer.be/wp-content/uploads/2020/02/84091475_2658257627614836_946037985135034368_o.jpg
END:VEVENT
END:VCALENDAR