BEGIN:VCALENDAR
VERSION:2.0
PRODID:-//Beer.be - ECPv6.15.20//NONSGML v1.0//EN
CALSCALE:GREGORIAN
METHOD:PUBLISH
X-WR-CALNAME:Beer.be
X-ORIGINAL-URL:https://beer.be
X-WR-CALDESC:Évènements pour Beer.be
REFRESH-INTERVAL;VALUE=DURATION:PT1H
X-Robots-Tag:noindex
X-PUBLISHED-TTL:PT1H
BEGIN:VTIMEZONE
TZID:Europe/Brussels
BEGIN:DAYLIGHT
TZOFFSETFROM:+0100
TZOFFSETTO:+0200
TZNAME:CEST
DTSTART:20190331T010000
END:DAYLIGHT
BEGIN:STANDARD
TZOFFSETFROM:+0200
TZOFFSETTO:+0100
TZNAME:CET
DTSTART:20191027T010000
END:STANDARD
BEGIN:DAYLIGHT
TZOFFSETFROM:+0100
TZOFFSETTO:+0200
TZNAME:CEST
DTSTART:20200329T010000
END:DAYLIGHT
BEGIN:STANDARD
TZOFFSETFROM:+0200
TZOFFSETTO:+0100
TZNAME:CET
DTSTART:20201025T010000
END:STANDARD
BEGIN:DAYLIGHT
TZOFFSETFROM:+0100
TZOFFSETTO:+0200
TZNAME:CEST
DTSTART:20210328T010000
END:DAYLIGHT
BEGIN:STANDARD
TZOFFSETFROM:+0200
TZOFFSETTO:+0100
TZNAME:CET
DTSTART:20211031T010000
END:STANDARD
END:VTIMEZONE
BEGIN:VEVENT
DTSTART;VALUE=DATE:20200926
DTEND;VALUE=DATE:20200927
DTSTAMP:20260421T231801
CREATED:20200927T110700Z
LAST-MODIFIED:20200927T110700Z
UID:15863-1601078400-1601164799@beer.be
SUMMARY:Liesse x Cantillon: Zwanze Day - Alsace
DESCRIPTION:Qu'est-ce qui peut réunir les Alsaciens et les Bruxellois ? L'ouverture d'esprit et le sens de la fête ! Pour célébrer les bons vivants\, Liesse accueillera un événement spécial en marge du fameux Zwanze day annuel de la légendaire Brasserie Cantillon : une fois par an\, partout dans le monde\, dans une sélection de bars\, est mis en perce un fût unique d'une bière créée spécialement pour la soirée. Rapidement devenu incontournable\, ce Zwanze day est en 2020 -Covid Oblige- recentré sur l'Europe. L'amitié Alsaco-Bruxelloise a donné lieu\, au fil des années\, à de nombreuses collaborations avec des vignerons du cru ( Domaine Valentin Zusslin & Earl Florian Beck Hartweg ) Liesse est heureux de vous présenter en exclusivité une jolie selection de cuvées expérimentales différentes. Un rendez-vous à ne manquer sous aucun prétexte 
URL:https://beer.be/agenda/liesse-x-cantillon-zwanze-day-alsace/
LOCATION:Liesse\, 57 avenue Adolphe Demeur\, Bruxelles\, 1060\, Belgique
CATEGORIES:Dégustation
ATTACH;FMTTYPE=image/jpeg:https://beer.be/wp-content/uploads/2020/09/120047770_149429700167650_7223664432572511057_o.jpg
END:VEVENT
END:VCALENDAR