BEGIN:VCALENDAR
VERSION:2.0
PRODID:-//Beer.be - ECPv6.15.20//NONSGML v1.0//EN
CALSCALE:GREGORIAN
METHOD:PUBLISH
X-ORIGINAL-URL:https://beer.be
X-WR-CALDESC:Évènements pour Beer.be
REFRESH-INTERVAL;VALUE=DURATION:PT1H
X-Robots-Tag:noindex
X-PUBLISHED-TTL:PT1H
BEGIN:VTIMEZONE
TZID:Europe/Brussels
BEGIN:DAYLIGHT
TZOFFSETFROM:+0100
TZOFFSETTO:+0200
TZNAME:CEST
DTSTART:20190331T010000
END:DAYLIGHT
BEGIN:STANDARD
TZOFFSETFROM:+0200
TZOFFSETTO:+0100
TZNAME:CET
DTSTART:20191027T010000
END:STANDARD
BEGIN:DAYLIGHT
TZOFFSETFROM:+0100
TZOFFSETTO:+0200
TZNAME:CEST
DTSTART:20200329T010000
END:DAYLIGHT
BEGIN:STANDARD
TZOFFSETFROM:+0200
TZOFFSETTO:+0100
TZNAME:CET
DTSTART:20201025T010000
END:STANDARD
BEGIN:DAYLIGHT
TZOFFSETFROM:+0100
TZOFFSETTO:+0200
TZNAME:CEST
DTSTART:20210328T010000
END:DAYLIGHT
BEGIN:STANDARD
TZOFFSETFROM:+0200
TZOFFSETTO:+0100
TZNAME:CET
DTSTART:20211031T010000
END:STANDARD
END:VTIMEZONE
BEGIN:VEVENT
DTSTART;VALUE=DATE:20200621
DTEND;VALUE=DATE:20200623
DTSTAMP:20260423T190621
CREATED:20200617T135426Z
LAST-MODIFIED:20200617T135426Z
UID:15404-1592697600-1592870399@beer.be
SUMMARY:Lithuanian CRAFT BEER stockpiling days at Beer Mania
DESCRIPTION:This can happen only once in a while - the creme de la creme of Lithuanian beers are coming to Brussels! Artisan brewers bring you the fragrant IPAs\, APAs\, lagers\, pilsners - all kinds of beers! After all\, it's St John's next week - the biggest midsummer fest in the Baltics. Celebrate the longest night of the year like Lithuanians do - with bonfires and fragrant beers 🙂 (non-alcoholic beers that taste like beer\, finally\, also there 😉 Here's how it works: the beers sold to take home\, not to drink at the place of sales. Spread the news\, invite your friends. \nP.S. Sorry - weekend - cash only 🙂
URL:https://beer.be/agenda/lithuanian-craft-beer-stockpiling-days-at-beer-mania/
LOCATION:Beer Mania\, 174 Chaussée de Wavre\, Bruxelles\, 1050\, Belgique
CATEGORIES:Autre
ATTACH;FMTTYPE=image/jpeg:https://beer.be/wp-content/uploads/2020/06/104102808_2712984228946006_2904327954134347734_o.jpg
END:VEVENT
END:VCALENDAR