BEGIN:VCALENDAR
VERSION:2.0
PRODID:-//Beer.be - ECPv6.15.20//NONSGML v1.0//EN
CALSCALE:GREGORIAN
METHOD:PUBLISH
X-WR-CALNAME:Beer.be
X-ORIGINAL-URL:https://beer.be
X-WR-CALDESC:Évènements pour Beer.be
REFRESH-INTERVAL;VALUE=DURATION:PT1H
X-Robots-Tag:noindex
X-PUBLISHED-TTL:PT1H
BEGIN:VTIMEZONE
TZID:Europe/Brussels
BEGIN:DAYLIGHT
TZOFFSETFROM:+0100
TZOFFSETTO:+0200
TZNAME:CEST
DTSTART:20180325T010000
END:DAYLIGHT
BEGIN:STANDARD
TZOFFSETFROM:+0200
TZOFFSETTO:+0100
TZNAME:CET
DTSTART:20181028T010000
END:STANDARD
BEGIN:DAYLIGHT
TZOFFSETFROM:+0100
TZOFFSETTO:+0200
TZNAME:CEST
DTSTART:20190331T010000
END:DAYLIGHT
BEGIN:STANDARD
TZOFFSETFROM:+0200
TZOFFSETTO:+0100
TZNAME:CET
DTSTART:20191027T010000
END:STANDARD
BEGIN:DAYLIGHT
TZOFFSETFROM:+0100
TZOFFSETTO:+0200
TZNAME:CEST
DTSTART:20200329T010000
END:DAYLIGHT
BEGIN:STANDARD
TZOFFSETFROM:+0200
TZOFFSETTO:+0100
TZNAME:CET
DTSTART:20201025T010000
END:STANDARD
END:VTIMEZONE
BEGIN:VEVENT
DTSTART;VALUE=DATE:20190330
DTEND;VALUE=DATE:20190331
DTSTAMP:20260422T212651
CREATED:20190318T131016Z
LAST-MODIFIED:20190318T131016Z
UID:13577-1553904000-1553990399@beer.be
SUMMARY:L'Union fait la fête au Manneken Pis! + afterparty chez Gist
DESCRIPTION:Le samedi 30 mars\, notre Petit Julien sera habillé aux couleurs du meilleur club de Bruxelles 😉 ...la Royale Union Saint-Gilloise - Brussels! Pour l'occasion\, la Trinité Brassicole Unioniste\, a.k.a. les brasseries En Stoemelings: Brasserie - Brouwerij - Brewery\, Brasserie Cantillon et Brasserie de la Senne\, abreuverons les passants avec leurs délicieux produits. Le Manneke nous "servira" de la bonne Curieuse Neus de la brasserie En Stoemelings\, mais d'autres bières seront également disponibles... venez les découvrir! Gratuitement\, jusqu'à épuisement des fûts! Et si vous en voulez plus\, la Trinité Brassicole vous invite à continuer cette après-midi de fête unioniste chez nos amis du GIST\, l'excellent bar à bières de la Place de la Vielle Halle aux Blés\, à quelques mètres du Manneken Pis.
URL:https://beer.be/agenda/lunion-fait-la-fete-au-manneken-pis-afterparty-chez-gist/
CATEGORIES:Autre
ATTACH;FMTTYPE=image/jpeg:https://beer.be/wp-content/uploads/2019/03/53782601_2719758588064769_7876196123591835648_n.jpg
END:VEVENT
END:VCALENDAR