BEGIN:VCALENDAR
VERSION:2.0
PRODID:-//Beer.be - ECPv6.15.20//NONSGML v1.0//EN
CALSCALE:GREGORIAN
METHOD:PUBLISH
X-ORIGINAL-URL:https://beer.be
X-WR-CALDESC:Évènements pour Beer.be
REFRESH-INTERVAL;VALUE=DURATION:PT1H
X-Robots-Tag:noindex
X-PUBLISHED-TTL:PT1H
BEGIN:VTIMEZONE
TZID:Europe/Brussels
BEGIN:DAYLIGHT
TZOFFSETFROM:+0100
TZOFFSETTO:+0200
TZNAME:CEST
DTSTART:20200329T010000
END:DAYLIGHT
BEGIN:STANDARD
TZOFFSETFROM:+0200
TZOFFSETTO:+0100
TZNAME:CET
DTSTART:20201025T010000
END:STANDARD
BEGIN:DAYLIGHT
TZOFFSETFROM:+0100
TZOFFSETTO:+0200
TZNAME:CEST
DTSTART:20210328T010000
END:DAYLIGHT
BEGIN:STANDARD
TZOFFSETFROM:+0200
TZOFFSETTO:+0100
TZNAME:CET
DTSTART:20211031T010000
END:STANDARD
BEGIN:DAYLIGHT
TZOFFSETFROM:+0100
TZOFFSETTO:+0200
TZNAME:CEST
DTSTART:20220327T010000
END:DAYLIGHT
BEGIN:STANDARD
TZOFFSETFROM:+0200
TZOFFSETTO:+0100
TZNAME:CET
DTSTART:20221030T010000
END:STANDARD
END:VTIMEZONE
BEGIN:VEVENT
DTSTART;VALUE=DATE:20210827
DTEND;VALUE=DATE:20210828
DTSTAMP:20260421T034802
CREATED:20210729T083745Z
LAST-MODIFIED:20210729T083745Z
UID:17095-1630022400-1630108799@beer.be
SUMMARY:Heavy Metal & Beer Fest in the Camion à Roulettes
DESCRIPTION:Toi aussi tu aimes bières savoureuses et les vidéos de heavy metal des années 80\, 90\, 00\, etc. ? Joins-toi à nous et participe à notre Heavy Metal and Beer Fest. Pour fêter la sortie de notre troisième bière\, nous diffuserons les meilleurs clips du genre et nous organiserons un concours de karaoké Heavy Metal avec des prix authentiques de la Brasserie à Roulettes. Veste à patches et t-shirt de groupes recommandés \n\nHou je van lekkere bieren & heavy metal video's uit de 80's\, 90's\, 00's etc ? Doe mee en neem deel aan ons Heavy Metal en Beer Fest. Om de release van ons derde bier te vieren\, zenden wij het beste van het beste uit en we organiseren een Heavy Metal karaoke-wedstrijd met echte Brasserie à Roulettes-prijzen. Jas met patches en band t-shirt zijn welkom \nDo you enjoy tasty beers & heavy metal videos from the 80's\, 90's\, 00's etc ? Join us and participate to our Heavy Metal and Beer Fest. To celebrate the release of our third bier\, we'll broadcast the bests of the bests and we'll organize a Heavy Metal karaoke contest with genuine Brasserie à Roulettes prices. Jacket with patches and band t-shirt are more than welcome 
URL:https://beer.be/agenda/heavy-metal-beer-fest-in-the-camion-a-roulettes/
LOCATION:Les rendez-vous du Château\, Rue du vieux Château\, Walhain\, Belgique
CATEGORIES:Concert
ATTACH;FMTTYPE=image/jpeg:https://beer.be/wp-content/uploads/2021/07/228716977_676686640398442_798041107520433427_n.jpg
END:VEVENT
END:VCALENDAR