BEGIN:VCALENDAR
VERSION:2.0
PRODID:-//Beer.be - ECPv6.15.20//NONSGML v1.0//EN
CALSCALE:GREGORIAN
METHOD:PUBLISH
X-ORIGINAL-URL:https://beer.be
X-WR-CALDESC:Évènements pour Beer.be
REFRESH-INTERVAL;VALUE=DURATION:PT1H
X-Robots-Tag:noindex
X-PUBLISHED-TTL:PT1H
BEGIN:VTIMEZONE
TZID:Europe/Brussels
BEGIN:DAYLIGHT
TZOFFSETFROM:+0100
TZOFFSETTO:+0200
TZNAME:CEST
DTSTART:20180325T010000
END:DAYLIGHT
BEGIN:STANDARD
TZOFFSETFROM:+0200
TZOFFSETTO:+0100
TZNAME:CET
DTSTART:20181028T010000
END:STANDARD
BEGIN:DAYLIGHT
TZOFFSETFROM:+0100
TZOFFSETTO:+0200
TZNAME:CEST
DTSTART:20190331T010000
END:DAYLIGHT
BEGIN:STANDARD
TZOFFSETFROM:+0200
TZOFFSETTO:+0100
TZNAME:CET
DTSTART:20191027T010000
END:STANDARD
BEGIN:DAYLIGHT
TZOFFSETFROM:+0100
TZOFFSETTO:+0200
TZNAME:CEST
DTSTART:20200329T010000
END:DAYLIGHT
BEGIN:STANDARD
TZOFFSETFROM:+0200
TZOFFSETTO:+0100
TZNAME:CET
DTSTART:20201025T010000
END:STANDARD
END:VTIMEZONE
BEGIN:VEVENT
DTSTART;VALUE=DATE:20190927
DTEND;VALUE=DATE:20190928
DTSTAMP:20260424T215935
CREATED:20190815T124504Z
LAST-MODIFIED:20190815T124504Z
UID:14160-1569542400-1569628799@beer.be
SUMMARY:Nemesis release party - Blues music set by DJ Rusty Sound
DESCRIPTION:Nos amis de la future brasserie Misery Beer Co. sont en plein travaux d'aménagement. Ils ont trouvé le temps de venir brasser une bière avec nous\,...pour le fun\, pour l'amitié\, pour s'amuser aussi et surtout. Le 27 septembre on vous donne rendez-vous pour venir découvrir cette recette imaginée par l'Ermitage et Misery. Le mythique DJ Rusty Sound sera présent toute la soirée pour vous passer ses plus beaux vinyles de Blues. C'est également l'occasion de soutenir ce projet ambitieux et prometteur. Ça va sentir l'essence\, le pin\, le houblon et le whisky.
URL:https://beer.be/agenda/nemesis-release-party-blues-music-set-by-dj-rusty-sound/
LOCATION:Nanobrasserie de l'Ermitage\, 28 rue Lambert Crickx\, Bruxelles\, 1070\, Belgique
CATEGORIES:Concert
ATTACH;FMTTYPE=image/jpeg:https://beer.be/wp-content/uploads/2019/08/69168196_2109691005801910_1980804922249052160_o.jpg
END:VEVENT
END:VCALENDAR