BEGIN:VCALENDAR
VERSION:2.0
PRODID:-//Beer.be - ECPv6.15.20//NONSGML v1.0//EN
CALSCALE:GREGORIAN
METHOD:PUBLISH
X-ORIGINAL-URL:https://beer.be
X-WR-CALDESC:Évènements pour Beer.be
REFRESH-INTERVAL;VALUE=DURATION:PT1H
X-Robots-Tag:noindex
X-PUBLISHED-TTL:PT1H
BEGIN:VTIMEZONE
TZID:Europe/Brussels
BEGIN:DAYLIGHT
TZOFFSETFROM:+0100
TZOFFSETTO:+0200
TZNAME:CEST
DTSTART:20180325T010000
END:DAYLIGHT
BEGIN:STANDARD
TZOFFSETFROM:+0200
TZOFFSETTO:+0100
TZNAME:CET
DTSTART:20181028T010000
END:STANDARD
BEGIN:DAYLIGHT
TZOFFSETFROM:+0100
TZOFFSETTO:+0200
TZNAME:CEST
DTSTART:20190331T010000
END:DAYLIGHT
BEGIN:STANDARD
TZOFFSETFROM:+0200
TZOFFSETTO:+0100
TZNAME:CET
DTSTART:20191027T010000
END:STANDARD
BEGIN:DAYLIGHT
TZOFFSETFROM:+0100
TZOFFSETTO:+0200
TZNAME:CEST
DTSTART:20200329T010000
END:DAYLIGHT
BEGIN:STANDARD
TZOFFSETFROM:+0200
TZOFFSETTO:+0100
TZNAME:CET
DTSTART:20201025T010000
END:STANDARD
END:VTIMEZONE
BEGIN:VEVENT
DTSTART;VALUE=DATE:20191109
DTEND;VALUE=DATE:20191110
DTSTAMP:20260422T114130
CREATED:20191020T070436Z
LAST-MODIFIED:20191020T070436Z
UID:14461-1573257600-1573343999@beer.be
SUMMARY:IDA Belgium - Championship 2019
DESCRIPTION:*Curious about scratching?* This year\, the IDA Belgium will take place in the Brusseleir' brewery En Stoemelings! 🇧🇪 Get ready to see the most skilled turntablists around battle with a scent of hop & cereals 🍺 Turntable art\, yes! But... we also cooked you some dope showcases and invited heavily awarded guests! \n⚡️ Champions Dj Netik\, Eb Kaito & Swordz will judge this unique event! \n🎤 Already announced showcases:\n* Skillz Machine (Dj Bust & EbKaito)\n* Dj Netik\n* Dj Swordz \n👉 For updates : IDA Belgium & Instagram \nOur awesome partners : En Stoemelings: Brasserie - Brouwerij - Brewery Lezarts Urbains\, Playground •
URL:https://beer.be/agenda/ida-belgium-championship-2019/
LOCATION:Brasserie En Stoemelings\, 37 rue Dieudonné Lefèvre\, Bruxelles\, 1020\, Belgique
CATEGORIES:Concert
ATTACH;FMTTYPE=image/png:https://beer.be/wp-content/uploads/2019/10/73425136_1478643858943696_1842843129523208192_n.png
END:VEVENT
BEGIN:VEVENT
DTSTART;VALUE=DATE:20191124
DTEND;VALUE=DATE:20191125
DTSTAMP:20260422T114130
CREATED:20191112T154827Z
LAST-MODIFIED:20191112T154827Z
UID:14573-1574553600-1574639999@beer.be
SUMMARY:Baz Trio at GIST
DESCRIPTION:This sunday 24th of november\, GIST will become a jazz club from 6pm to 8pm\, welcoming the Baz Trio for 2 sets of music ! Come by to taste some amazing craft beers served by the delicious Jenlain Delcourt and Jody Lecieux and listen some jazz music ! \nAbout Baz Trio :\nNuanced\, subtle and sincere\, born of the great complicity that unites young musicians\, Baz Trio’s music is spontaneous\, takes its time and according a great importance to silence and acoustics. The sound of the trio is the result of the aesthetics of the compositions of doublebass player Basile Rahola and the very personal interpretation of pianist Wajdi Riahi and drummer Oscar Georges.\nThe diversity of the interpreters is a force where the inspiration of each member enriches the performance. This trio was noticed for its cohesion which gives birth to an eclectic\, original and melodic music. They won the first prize at the Mechelen International Jazz Contest 2018 in Belgium for «Best Group» and were finalists at the Zilina international Jazz Contest in Slovakia and Dînant Jazz contest. They recorded an album "Live at Jamboree" in Barcelona and a studio Album for Fresh Sound New Talent Label\, out this summer.
URL:https://beer.be/agenda/baz-trio-at-gist/
CATEGORIES:Concert
ATTACH;FMTTYPE=image/jpeg:https://beer.be/wp-content/uploads/2019/11/74522300_426387944688832_2540776427519737856_o.jpg
END:VEVENT
BEGIN:VEVENT
DTSTART;VALUE=DATE:20191128
DTEND;VALUE=DATE:20191129
DTSTAMP:20260422T114130
CREATED:20191105T174223Z
LAST-MODIFIED:20191105T174223Z
UID:14527-1574899200-1574985599@beer.be
SUMMARY:BBP & Nigh Tales // Jazz Night
DESCRIPTION:November is the best month to enjoy some music sipping a chocolate chipotle stout in a confy atmosphere. Introducing Night Tales\, a Brussel-based acoustic project with swing and gypsy touches\, that takes another tender look at those urban lyric tales. Take a beer and a seat and just enjoy.
URL:https://beer.be/agenda/bbp-nigh-tales-jazz-night/
LOCATION:Brussels Beer Project Dansaert\, 188 rue Antoine Dansaert\, Bruxelles\, 1000\, Belgique
CATEGORIES:Concert
ATTACH;FMTTYPE=image/jpeg:https://beer.be/wp-content/uploads/2019/11/76756847_754185878356360_4627235105708965888_n.jpg
END:VEVENT
END:VCALENDAR