BEGIN:VCALENDAR
VERSION:2.0
PRODID:-//Beer.be - ECPv6.15.20//NONSGML v1.0//EN
CALSCALE:GREGORIAN
METHOD:PUBLISH
X-ORIGINAL-URL:https://beer.be
X-WR-CALDESC:Évènements pour Beer.be
REFRESH-INTERVAL;VALUE=DURATION:PT1H
X-Robots-Tag:noindex
X-PUBLISHED-TTL:PT1H
BEGIN:VTIMEZONE
TZID:Europe/Brussels
BEGIN:DAYLIGHT
TZOFFSETFROM:+0100
TZOFFSETTO:+0200
TZNAME:CEST
DTSTART:20180325T010000
END:DAYLIGHT
BEGIN:STANDARD
TZOFFSETFROM:+0200
TZOFFSETTO:+0100
TZNAME:CET
DTSTART:20181028T010000
END:STANDARD
BEGIN:DAYLIGHT
TZOFFSETFROM:+0100
TZOFFSETTO:+0200
TZNAME:CEST
DTSTART:20190331T010000
END:DAYLIGHT
BEGIN:STANDARD
TZOFFSETFROM:+0200
TZOFFSETTO:+0100
TZNAME:CET
DTSTART:20191027T010000
END:STANDARD
BEGIN:DAYLIGHT
TZOFFSETFROM:+0100
TZOFFSETTO:+0200
TZNAME:CEST
DTSTART:20200329T010000
END:DAYLIGHT
BEGIN:STANDARD
TZOFFSETFROM:+0200
TZOFFSETTO:+0100
TZNAME:CET
DTSTART:20201025T010000
END:STANDARD
END:VTIMEZONE
BEGIN:VEVENT
DTSTART;VALUE=DATE:20191213
DTEND;VALUE=DATE:20191214
DTSTAMP:20260422T101110
CREATED:20191207T190127Z
LAST-MODIFIED:20191207T190127Z
UID:14744-1576195200-1576281599@beer.be
SUMMARY:Judith Kiddo - Free Concert
DESCRIPTION:La pop électronique de Judith Kiddo nous a directement tapé dans l'oreille. Ses synthés désuets\, son humour surréaliste et sa voix éthérée nous semblaient être un cocktail parfait pour terminer l'année! En plus tu peux venir boire un coup et te balader dans le marché de Noel durable du Be-Here\, c'est pas beau ça?! \nCONCERT : 20h30\nhttps://www.youtube.com/watch?v=nagAxMYVHSo
URL:https://beer.be/agenda/judith-kiddo-free-concert/
LOCATION:La Source Beer Co.\, 4 rue Dieudonné Lefèvre\, Bruxelles\, 1020\, Belgique
CATEGORIES:Concert
ATTACH;FMTTYPE=image/jpeg:https://beer.be/wp-content/uploads/2019/12/78606872_541779883047051_8977739876489232384_o.jpg
END:VEVENT
BEGIN:VEVENT
DTSTART;VALUE=DATE:20191214
DTEND;VALUE=DATE:20191215
DTSTAMP:20260422T101110
CREATED:20191210T154308Z
LAST-MODIFIED:20191210T154308Z
UID:14753-1576281600-1576367999@beer.be
SUMMARY:Stace - Free Concert
DESCRIPTION:STACE https://www.youtube.com/watch?v=EvoacNI4Tzw \nDans ce nouveau trip acoustique en solitaire\, la spontanéité va de pair avec la virtuosité. Stacy chante sous influences -- RnB\, Soul\, Jazz et musiques électroniques - sa vision actuelle de jeune femme aux identités multiples et heureuses. Un son bien chill pour terminer votre marché de Noel et votre année. C'est pas sympa ça? 🙂 \nCONCERT: 17H
URL:https://beer.be/agenda/stace-free-concert/
LOCATION:La Source Beer Co.\, 4 rue Dieudonné Lefèvre\, Bruxelles\, 1020\, Belgique
CATEGORIES:Concert
ATTACH;FMTTYPE=image/jpeg:https://beer.be/wp-content/uploads/2019/12/78663723_548107545747618_6423992888253743104_o.jpg
END:VEVENT
BEGIN:VEVENT
DTSTART;VALUE=DATE:20191221
DTEND;VALUE=DATE:20191222
DTSTAMP:20260422T101110
CREATED:20191219T074505Z
LAST-MODIFIED:20191219T074505Z
UID:14790-1576886400-1576972799@beer.be
SUMMARY:Free concert. Ambiance with -Fragile-
DESCRIPTION:Great grove of the eighties with the New wave band Fragile. Free concert - Ambiance night
URL:https://beer.be/agenda/free-concert-ambiance-with-fragile/
LOCATION:Family Brews\, Haringstraat 2\, Brussel\, 1000\, Belgique
CATEGORIES:Concert
ATTACH;FMTTYPE=image/jpeg:https://beer.be/wp-content/uploads/2019/12/79314053_746106329207504_2378134210817818624_o.jpg
END:VEVENT
END:VCALENDAR