BEGIN:VCALENDAR
VERSION:2.0
PRODID:-//Beer.be - ECPv6.15.20//NONSGML v1.0//EN
CALSCALE:GREGORIAN
METHOD:PUBLISH
X-WR-CALNAME:Beer.be
X-ORIGINAL-URL:https://beer.be
X-WR-CALDESC:Évènements pour Beer.be
REFRESH-INTERVAL;VALUE=DURATION:PT1H
X-Robots-Tag:noindex
X-PUBLISHED-TTL:PT1H
BEGIN:VTIMEZONE
TZID:Europe/Brussels
BEGIN:DAYLIGHT
TZOFFSETFROM:+0100
TZOFFSETTO:+0200
TZNAME:CEST
DTSTART:20190331T010000
END:DAYLIGHT
BEGIN:STANDARD
TZOFFSETFROM:+0200
TZOFFSETTO:+0100
TZNAME:CET
DTSTART:20191027T010000
END:STANDARD
BEGIN:DAYLIGHT
TZOFFSETFROM:+0100
TZOFFSETTO:+0200
TZNAME:CEST
DTSTART:20200329T010000
END:DAYLIGHT
BEGIN:STANDARD
TZOFFSETFROM:+0200
TZOFFSETTO:+0100
TZNAME:CET
DTSTART:20201025T010000
END:STANDARD
BEGIN:DAYLIGHT
TZOFFSETFROM:+0100
TZOFFSETTO:+0200
TZNAME:CEST
DTSTART:20210328T010000
END:DAYLIGHT
BEGIN:STANDARD
TZOFFSETFROM:+0200
TZOFFSETTO:+0100
TZNAME:CET
DTSTART:20211031T010000
END:STANDARD
END:VTIMEZONE
BEGIN:VEVENT
DTSTART;VALUE=DATE:20200201
DTEND;VALUE=DATE:20200202
DTSTAMP:20260422T064930
CREATED:20191128T123438Z
LAST-MODIFIED:20191128T123438Z
UID:14718-1580515200-1580601599@beer.be
SUMMARY:A Big Horse Party
DESCRIPTION:
URL:https://beer.be/agenda/a-big-horse-party/
LOCATION:La Source Beer Co.\, 4 rue Dieudonné Lefèvre\, Bruxelles\, 1020\, Belgique
CATEGORIES:Concert
ATTACH;FMTTYPE=image/jpeg:https://beer.be/wp-content/uploads/2019/11/78393139_3051119458239806_3408567487275466752_n.jpg
END:VEVENT
BEGIN:VEVENT
DTSTART;VALUE=DATE:20200201
DTEND;VALUE=DATE:20200202
DTSTAMP:20260422T064930
CREATED:20200124T191205Z
LAST-MODIFIED:20200124T191205Z
UID:14957-1580515200-1580601599@beer.be
SUMMARY:A Big Big Horse Party à La Source
DESCRIPTION:- DJ with The Tom Selleck Rockin' Club (50's / 60's)\n- Live with Les frères Lapoisse (French Rock'n'roll)\n- Live with Frau Blücher and the drünken horses (Fast Punk'n'Roll)\n- Live with Big Horse (Wild Rock'n'Roll One-man-band)\n- DJ with Dj LovePills (60's Garage Rock'n'Roll / Garage / Punk)
URL:https://beer.be/agenda/a-big-big-horse-party-a-la-source/
LOCATION:La Source Beer Co.\, 4 rue Dieudonné Lefèvre\, Bruxelles\, 1020\, Belgique
CATEGORIES:Concert
ATTACH;FMTTYPE=image/jpeg:https://beer.be/wp-content/uploads/2020/01/83416707_577883096103396_1648052829207658496_o.jpg
END:VEVENT
BEGIN:VEVENT
DTSTART;VALUE=DATE:20200207
DTEND;VALUE=DATE:20200208
DTSTAMP:20260422T064930
CREATED:20200207T154250Z
LAST-MODIFIED:20200207T154250Z
UID:15050-1581033600-1581119999@beer.be
SUMMARY:The Pigeons à L'Amère à Boire - Uccle
DESCRIPTION:Petit concert chez les copains de L’amère à boire le vendredi 7 février. Bonnes bières et bonne ambiance garanties !
URL:https://beer.be/agenda/the-pigeons-a-lamere-a-boire-uccle/
LOCATION:L'amère à boire\, 1008 Chaussée d'Alsemberg\, Bruxelles\, 1130\, Belgique
CATEGORIES:Concert
ATTACH;FMTTYPE=image/jpeg:https://beer.be/wp-content/uploads/2020/02/81672295_833146343794597_4261568870097092608_n.jpg
END:VEVENT
BEGIN:VEVENT
DTSTART;VALUE=DATE:20200223
DTEND;VALUE=DATE:20200224
DTSTAMP:20260422T064930
CREATED:20200211T174244Z
LAST-MODIFIED:20200211T174244Z
UID:15080-1582416000-1582502399@beer.be
SUMMARY:Dig Deep for Down Under
DESCRIPTION:Milan\, Antoine & Max (St. Kilda Bxll) et Richard (Le 203 BXL) ont aiguisé leur formation dans les restaurants d’Australie. Le pays\, la culture et ses habitants ont grandement influencé ces personnes et leur cuisine. Depuis leur première rencontre il y a deux ans\, ils avaient eu envie d’organiser l’événement incontournable de l’Australie - le BBQ... Avec les feux de forêt qui poursuivent leur ascension\, nous pensons qu’il est temps de concrétiser cette idée. Rassemblons-nous autour un verre et un BBQ à l’Australienne. Faisons le deuil de cette catastrophe\, levons des fonds pour leur venir en aide et célébrons un pays qui a pris cette place dans nos cœurs. \nNos artistes locaux préférés joueront tout au long de la journée :\nLe Motell\nDTM Funk\nLiyo\nLoumana\nLaryssa Kim\nMeex Dub \nLes tickets d’entrée sont à 5 €\, cette entrée vous donne automatiquement accès à la participation à la tombola. Nous vous invitons à acheter autant de tickets que possible pour augmenter vos chances de gagner ! Grâce à la générosité de toutes les personnes concernées et des bénéfices suite à la vente des tickets d’entrée & du BBQ\, nous donnerons la somme récoltée aux associations suivantes :\nWires : une organisation qui vient en aide et soigne les animaux du pays.\nhttps://www.wires.org.au/ \nFire relief Fund : pour les communautés de la première Nation : mis en place suite aux feux de forêt\, ce fond fournira une assistance directe aux communautés.\nhttps://www.gofundme.com/f/fire-relief-fund-for-first-nations-communities?utm_medium=copy_link&utm_source=customer&utm_campaign=p_lico+share-sheet \nAustralian Conservation Foundation: Une grande organisation qui cherche des changements politiques et institutionnels pour défendre les arbres\, les communautés\, les récifs et la faune sauvage de l'Australie.\nhttps://www.acf.org.au/
URL:https://beer.be/agenda/dig-deep-for-down-under/
LOCATION:Nanobrasserie de l'Ermitage\, 28 rue Lambert Crickx\, Bruxelles\, 1070\, Belgique
CATEGORIES:Concert
ATTACH;FMTTYPE=image/jpeg:https://beer.be/wp-content/uploads/2020/02/84855777_1088305511547632_784326238738055168_o-scaled.jpg
END:VEVENT
END:VCALENDAR