BEGIN:VCALENDAR
VERSION:2.0
PRODID:-//Beer.be - ECPv6.15.20//NONSGML v1.0//EN
CALSCALE:GREGORIAN
METHOD:PUBLISH
X-WR-CALNAME:Beer.be
X-ORIGINAL-URL:https://beer.be
X-WR-CALDESC:Évènements pour Beer.be
REFRESH-INTERVAL;VALUE=DURATION:PT1H
X-Robots-Tag:noindex
X-PUBLISHED-TTL:PT1H
BEGIN:VTIMEZONE
TZID:Europe/Brussels
BEGIN:DAYLIGHT
TZOFFSETFROM:+0100
TZOFFSETTO:+0200
TZNAME:CEST
DTSTART:20200329T010000
END:DAYLIGHT
BEGIN:STANDARD
TZOFFSETFROM:+0200
TZOFFSETTO:+0100
TZNAME:CET
DTSTART:20201025T010000
END:STANDARD
BEGIN:DAYLIGHT
TZOFFSETFROM:+0100
TZOFFSETTO:+0200
TZNAME:CEST
DTSTART:20210328T010000
END:DAYLIGHT
BEGIN:STANDARD
TZOFFSETFROM:+0200
TZOFFSETTO:+0100
TZNAME:CET
DTSTART:20211031T010000
END:STANDARD
BEGIN:DAYLIGHT
TZOFFSETFROM:+0100
TZOFFSETTO:+0200
TZNAME:CEST
DTSTART:20220327T010000
END:DAYLIGHT
BEGIN:STANDARD
TZOFFSETFROM:+0200
TZOFFSETTO:+0100
TZNAME:CET
DTSTART:20221030T010000
END:STANDARD
END:VTIMEZONE
BEGIN:VEVENT
DTSTART;VALUE=DATE:20211204
DTEND;VALUE=DATE:20211205
DTSTAMP:20260425T175059
CREATED:20211119T125534Z
LAST-MODIFIED:20211119T125534Z
UID:18274-1638576000-1638662399@beer.be
SUMMARY:Zythologist Christmas Party : Le Gang des Pères Noël
DESCRIPTION:La brasserie vous accueille bientôt pour un événement de folie \nQui dit baisse des températures\, dit Christmas Party en vue chez Zythologist. Le dresscode est simple : faites au maximum honneur à notre cher Père Noël.\n Quand ?\nLe samedi 4 décembre à partir 20h jusqu’à … plus soif.\n À la carte ?\nVenez déguster nos bières éphémères noires d’hiver\, avec des goûts de saison pour vous réchauffer le cœur : Spéculoos\, Pistache ou encore Nutella.\nMais attention\, à Hawaï il fait toujours chaud : nos bières permanentes et autres seront également de la partie pour vous désaltérer.\n Pour qui ?\nOuverte à tous. Pensez cependant à réserver votre entrée car la soirée est limitée à 50 personnes. Attention\, pull de Noël\, bonnet de Père Noël et Covid Safe Ticket obligatoire !\nOn vous attend en forme et assoiffés.
URL:https://beer.be/agenda/zythologist-christmas-party-le-gang-des-peres-noel/
LOCATION:Brasserie Zythologist\, 30 rue de la Station\, Gouy-Lez-Piéton\, 6181\, Belgique
CATEGORIES:Brasserie
ATTACH;FMTTYPE=image/jpeg:https://beer.be/wp-content/uploads/2021/11/255305127_1130995497307836_3815977729306174949_n.jpg
END:VEVENT
END:VCALENDAR