BEGIN:VCALENDAR
VERSION:2.0
PRODID:-//Beer.be - ECPv6.15.20//NONSGML v1.0//EN
CALSCALE:GREGORIAN
METHOD:PUBLISH
X-ORIGINAL-URL:https://beer.be
X-WR-CALDESC:Évènements pour Beer.be
REFRESH-INTERVAL;VALUE=DURATION:PT1H
X-Robots-Tag:noindex
X-PUBLISHED-TTL:PT1H
BEGIN:VTIMEZONE
TZID:Europe/Brussels
BEGIN:DAYLIGHT
TZOFFSETFROM:+0100
TZOFFSETTO:+0200
TZNAME:CEST
DTSTART:20190331T010000
END:DAYLIGHT
BEGIN:STANDARD
TZOFFSETFROM:+0200
TZOFFSETTO:+0100
TZNAME:CET
DTSTART:20191027T010000
END:STANDARD
BEGIN:DAYLIGHT
TZOFFSETFROM:+0100
TZOFFSETTO:+0200
TZNAME:CEST
DTSTART:20200329T010000
END:DAYLIGHT
BEGIN:STANDARD
TZOFFSETFROM:+0200
TZOFFSETTO:+0100
TZNAME:CET
DTSTART:20201025T010000
END:STANDARD
BEGIN:DAYLIGHT
TZOFFSETFROM:+0100
TZOFFSETTO:+0200
TZNAME:CEST
DTSTART:20210328T010000
END:DAYLIGHT
BEGIN:STANDARD
TZOFFSETFROM:+0200
TZOFFSETTO:+0100
TZNAME:CET
DTSTART:20211031T010000
END:STANDARD
END:VTIMEZONE
BEGIN:VEVENT
DTSTART;VALUE=DATE:20200131
DTEND;VALUE=DATE:20200201
DTSTAMP:20260422T145109
CREATED:20200112T101042Z
LAST-MODIFIED:20200112T101042Z
UID:14878-1580428800-1580515199@beer.be
SUMMARY:Introduction to & Degustation of Dutch Wild Beers
DESCRIPTION:We are back with our degustation evenings! Th first one will be dedicated to the amazing brews from Nevel Artisan Ales and Oersoep Bretts\, wild flowers\, barrel aging\,... you will get the chance to taste them all! We will be talking about their installation\, koelschip methode\, for aging passoion and have time to taste all the beers! For this first one of the year we set out 20 seats and we will see from there.
URL:https://beer.be/agenda/introduction-to-degustation-of-dutch-wild-beers/
LOCATION:Fermenthings\, 4 rue Dieudonné Lefevre\, Bruxelles\, Laeken\, 1020\, Belgique
CATEGORIES:Fermenthings
ATTACH;FMTTYPE=image/jpeg:https://beer.be/wp-content/uploads/2020/01/81989263_840832723009424_973398314084990976_n.jpg
END:VEVENT
END:VCALENDAR