BEGIN:VCALENDAR
VERSION:2.0
PRODID:-//Beer.be - ECPv6.15.20//NONSGML v1.0//EN
CALSCALE:GREGORIAN
METHOD:PUBLISH
X-WR-CALNAME:Beer.be
X-ORIGINAL-URL:https://beer.be
X-WR-CALDESC:Évènements pour Beer.be
REFRESH-INTERVAL;VALUE=DURATION:PT1H
X-Robots-Tag:noindex
X-PUBLISHED-TTL:PT1H
BEGIN:VTIMEZONE
TZID:Europe/Brussels
BEGIN:DAYLIGHT
TZOFFSETFROM:+0100
TZOFFSETTO:+0200
TZNAME:CEST
DTSTART:20190331T010000
END:DAYLIGHT
BEGIN:STANDARD
TZOFFSETFROM:+0200
TZOFFSETTO:+0100
TZNAME:CET
DTSTART:20191027T010000
END:STANDARD
BEGIN:DAYLIGHT
TZOFFSETFROM:+0100
TZOFFSETTO:+0200
TZNAME:CEST
DTSTART:20200329T010000
END:DAYLIGHT
BEGIN:STANDARD
TZOFFSETFROM:+0200
TZOFFSETTO:+0100
TZNAME:CET
DTSTART:20201025T010000
END:STANDARD
BEGIN:DAYLIGHT
TZOFFSETFROM:+0100
TZOFFSETTO:+0200
TZNAME:CEST
DTSTART:20210328T010000
END:DAYLIGHT
BEGIN:STANDARD
TZOFFSETFROM:+0200
TZOFFSETTO:+0100
TZNAME:CET
DTSTART:20211031T010000
END:STANDARD
END:VTIMEZONE
BEGIN:VEVENT
DTSTART;VALUE=DATE:20200223
DTEND;VALUE=DATE:20200224
DTSTAMP:20260422T031404
CREATED:20200224T100949Z
LAST-MODIFIED:20200224T100949Z
UID:15186-1582416000-1582502399@beer.be
SUMMARY:Open brouwerijdag: proef craft lager
DESCRIPTION:Op vraag van veel bierliefhebbers start de brouwerij met de organisatie van brouwerij- en stoeterijbezoeken voor individuelen op zondag. Elke laatste zondag van de maand kan je in Steenhuffel de wondere wereld van het bierbrouwen ontdekken. De eerste zondag wordt gecombineerd met de lancering van de nieuwe craft lager van Arthur's Legacy.
URL:https://beer.be/agenda/open-brouwerijdag-proef-craft-lager/
LOCATION:Brasserie Palm\, Steenhuffeldorp 3\, Londerzeel\, 1840\, Belgique
CATEGORIES:Brasserie
ATTACH;FMTTYPE=image/jpeg:https://beer.be/wp-content/uploads/2020/02/86970102_2164397400329779_255565071101460480_o.jpg
END:VEVENT
END:VCALENDAR