BEGIN:VCALENDAR
VERSION:2.0
PRODID:-//Beer.be - ECPv6.15.20//NONSGML v1.0//EN
CALSCALE:GREGORIAN
METHOD:PUBLISH
X-WR-CALNAME:Beer.be
X-ORIGINAL-URL:https://beer.be
X-WR-CALDESC:Évènements pour Beer.be
REFRESH-INTERVAL;VALUE=DURATION:PT1H
X-Robots-Tag:noindex
X-PUBLISHED-TTL:PT1H
BEGIN:VTIMEZONE
TZID:Europe/Brussels
BEGIN:DAYLIGHT
TZOFFSETFROM:+0100
TZOFFSETTO:+0200
TZNAME:CEST
DTSTART:20200329T010000
END:DAYLIGHT
BEGIN:STANDARD
TZOFFSETFROM:+0200
TZOFFSETTO:+0100
TZNAME:CET
DTSTART:20201025T010000
END:STANDARD
BEGIN:DAYLIGHT
TZOFFSETFROM:+0100
TZOFFSETTO:+0200
TZNAME:CEST
DTSTART:20210328T010000
END:DAYLIGHT
BEGIN:STANDARD
TZOFFSETFROM:+0200
TZOFFSETTO:+0100
TZNAME:CET
DTSTART:20211031T010000
END:STANDARD
BEGIN:DAYLIGHT
TZOFFSETFROM:+0100
TZOFFSETTO:+0200
TZNAME:CEST
DTSTART:20220327T010000
END:DAYLIGHT
BEGIN:STANDARD
TZOFFSETFROM:+0200
TZOFFSETTO:+0100
TZNAME:CET
DTSTART:20221030T010000
END:STANDARD
END:VTIMEZONE
BEGIN:VEVENT
DTSTART;VALUE=DATE:20210819
DTEND;VALUE=DATE:20210820
DTSTAMP:20260425T060320
CREATED:20210806T090512Z
LAST-MODIFIED:20210806T090512Z
UID:17151-1629331200-1629417599@beer.be
SUMMARY:La culture Peakée à vif #2
DESCRIPTION:Après de (trop) longs mois de pause\, il est temps de revenir en force !  En collaboration avec On-Live Festival et Art’n Peper\, la brasserie Peak et la culture PEAKée à vif vous invitent ce jeudi 19 août à une soirée qui mettra notre chère culture à l’honneur.  Au programme : un menu aux saveurs bien belges\, des dégustations de PEAK\, des concerts et des animations tout au long de la soirée ! \n\nMENU 3 services - BELGE UNE FOIS - 45€/pers.\nTomate crevettes grises.\n***\nWaterzooi de volaille à la Gantoise\, jus de poulette au bon beurre de chez nous\, pommes natures.\n***\nDame blanche.\n+ Dégustation de 3 Peak (15cl)\nAlternative végétarienne possible.\n\nLes artistes de la soirée\n L'Automaphone de Jean-Marie\n La Royale Echo de la Warchenne de Waimes\n Replay Trio Acoustique\n Dj Roger\n\n Nombre de places limité Réservation obligatoire. Pour le bon déroulement de la soirée et votre plaisir\, l'arrivée est indispensable à partir de 19h00 et AVANT 19h30.\n\nComment réserver ? https://peakbeer.be/fr/la-culture-peake-vif-2... ou par mail à l'adresse salle@peakbeer.be
URL:https://beer.be/agenda/la-culture-peakee-a-vif-2/
LOCATION:Peak Beer\, 123 rue de Botrange\, 4950\, Belgique
CATEGORIES:Concert
ATTACH;FMTTYPE=image/jpeg:https://beer.be/wp-content/uploads/2021/08/229637667_2906665386314365_900002261659718428_n.jpg
END:VEVENT
END:VCALENDAR