BEGIN:VCALENDAR
VERSION:2.0
PRODID:-//Beer.be - ECPv6.15.20//NONSGML v1.0//EN
CALSCALE:GREGORIAN
METHOD:PUBLISH
X-WR-CALNAME:Beer.be
X-ORIGINAL-URL:https://beer.be
X-WR-CALDESC:Évènements pour Beer.be
REFRESH-INTERVAL;VALUE=DURATION:PT1H
X-Robots-Tag:noindex
X-PUBLISHED-TTL:PT1H
BEGIN:VTIMEZONE
TZID:Europe/Brussels
BEGIN:DAYLIGHT
TZOFFSETFROM:+0100
TZOFFSETTO:+0200
TZNAME:CEST
DTSTART:20200329T010000
END:DAYLIGHT
BEGIN:STANDARD
TZOFFSETFROM:+0200
TZOFFSETTO:+0100
TZNAME:CET
DTSTART:20201025T010000
END:STANDARD
BEGIN:DAYLIGHT
TZOFFSETFROM:+0100
TZOFFSETTO:+0200
TZNAME:CEST
DTSTART:20210328T010000
END:DAYLIGHT
BEGIN:STANDARD
TZOFFSETFROM:+0200
TZOFFSETTO:+0100
TZNAME:CET
DTSTART:20211031T010000
END:STANDARD
BEGIN:DAYLIGHT
TZOFFSETFROM:+0100
TZOFFSETTO:+0200
TZNAME:CEST
DTSTART:20220327T010000
END:DAYLIGHT
BEGIN:STANDARD
TZOFFSETFROM:+0200
TZOFFSETTO:+0100
TZNAME:CET
DTSTART:20221030T010000
END:STANDARD
END:VTIMEZONE
BEGIN:VEVENT
DTSTART;VALUE=DATE:20210923
DTEND;VALUE=DATE:20210925
DTSTAMP:20260425T042952
CREATED:20210723T052937Z
LAST-MODIFIED:20210723T052937Z
UID:17065-1632355200-1632527999@beer.be
SUMMARY:OktoberPEAK
DESCRIPTION:Si Munich a son Oktoberfest\, les Hautes Fagnes auront leur OktoberPEAK ! \nDans une ambiance aussi festive qu’en Bavière\, c’est à la brasserie PEAK qu’on va fêter la bière et qu’elle coulera à flots. Sur des rythmes d’orchestres et de fanfares Oberbayern\, venez partager poulets rôtis et Schnitzel accompagnés de grandes Peak !\n\nTenues bavaroises\, costumes de tyrolienne et autres VIVEMENT RECOMMANDÉS pour tous !\n\n\n\nPour l’occasion\, nous vous présentons une nouvelle PEAK…\n L’OktoberPEAK \nUne pils (fermentée à basse température) plus légère\, titrée à 5%\, mais pleine de caractère quand même ! Cette Peak\, rafraîchissante et ronde sans trop d’amertume tire ses saveurs de sa recette particulière : 100% de malt\, comme en Allemagne et à base de malt de Munich\, ce qui lui donnera sa belle couleur cuivrée.\nCette bière sera également servie à la brasserie du jeudi 23/09 et jusqu’à épuisement des stocks.\n\nEt pour ravir vos papilles…\n Schnitzel et pommes frites\n Poulet rôti et pommes frites\nDurant les soirées\, des bretzels seront également mis en vente.\n\n\n\nPRIX\n55€ / personne\nComprenant :\n* L’entrée à la soirée\n* Le repas\n* Une OktoberPeak de 50cl (ou autre boisson proposée ce soir-là)\n* Une pinte 50cl souvenir à emporter chez vous\n* L’animation par un orchestre Oberbayern\n\n\n\n Nombre de places limité - Réservation obligatoire \nUne fois la réservation effectuée\, vous recevrez un mail avec toutes les informations de paiement.\nLes réservations ne seront validées qu’une fois le paiement reçu.\n\nEnvie d’un événement d’entreprise ou d’équipe ?\n Possibilité de facturer les entrées et les tickets !\n\nComment réserver ?\nVia notre site internet\nhttps://peakbeer.be/fr/loktoberpeak?ft-ticket=923927b4\nPar mail : salle@peakbeer.be\nPar téléphone : 080 21 48 76\n\nPlus d'informations : https://peakbeer.be/fr/loktoberpeak?ft-ticket=923927b4
URL:https://beer.be/agenda/oktoberpeak/
LOCATION:Peak Beer\, 123 rue de Botrange\, 4950\, Belgique
CATEGORIES:Autre
ATTACH;FMTTYPE=image/jpeg:https://beer.be/wp-content/uploads/2021/07/220351239_2897925983854972_1738017165717890744_n.jpg
END:VEVENT
BEGIN:VEVENT
DTSTART;VALUE=DATE:20210930
DTEND;VALUE=DATE:20211002
DTSTAMP:20260425T042952
CREATED:20210723T053055Z
LAST-MODIFIED:20210723T053055Z
UID:17068-1632960000-1633132799@beer.be
SUMMARY:OktoberPEAK
DESCRIPTION:Si Munich a son Oktoberfest\, les Hautes Fagnes auront leur OktoberPEAK ! \nDans une ambiance aussi festive qu’en Bavière\, c’est à la brasserie PEAK qu’on va fêter la bière et qu’elle coulera à flots. Sur des rythmes d’orchestres et de fanfares Oberbayern\, venez partager poulets rôtis et Schnitzel accompagnés de grandes Peak !\n\nTenues bavaroises\, costumes de tyrolienne et autres VIVEMENT RECOMMANDÉS pour tous !\n\n\n\nPour l’occasion\, nous vous présentons une nouvelle PEAK…\n L’OktoberPEAK \nUne pils (fermentée à basse température) plus légère\, titrée à 5%\, mais pleine de caractère quand même ! Cette Peak\, rafraîchissante et ronde sans trop d’amertume tire ses saveurs de sa recette particulière : 100% de malt\, comme en Allemagne et à base de malt de Munich\, ce qui lui donnera sa belle couleur cuivrée.\nCette bière sera également servie à la brasserie du jeudi 23/09 et jusqu’à épuisement des stocks.\n\nEt pour ravir vos papilles…\n Schnitzel et pommes frites\n Poulet rôti et pommes frites\nDurant les soirées\, des bretzels seront également mis en vente.\n\n\n\nPRIX\n55€ / personne\nComprenant :\n* L’entrée à la soirée\n* Le repas\n* Une OktoberPeak de 50cl (ou autre boisson proposée ce soir-là)\n* Une pinte 50cl souvenir à emporter chez vous\n* L’animation par un orchestre Oberbayern\n\n\n\n Nombre de places limité - Réservation obligatoire \nUne fois la réservation effectuée\, vous recevrez un mail avec toutes les informations de paiement.\nLes réservations ne seront validées qu’une fois le paiement reçu.\n\nEnvie d’un événement d’entreprise ou d’équipe ?\n Possibilité de facturer les entrées et les tickets !\n\nComment réserver ?\nVia notre site internet\nhttps://peakbeer.be/fr/loktoberpeak?ft-ticket=923927b4\nPar mail : salle@peakbeer.be\nPar téléphone : 080 21 48 76\n\nPlus d'informations : https://peakbeer.be/fr/loktoberpeak?ft-ticket=923927b4
URL:https://beer.be/agenda/oktoberpeak-2/
LOCATION:Peak Beer\, 123 rue de Botrange\, 4950\, Belgique
CATEGORIES:Autre
ATTACH;FMTTYPE=image/jpeg:https://beer.be/wp-content/uploads/2021/07/220351239_2897925983854972_1738017165717890744_n.jpg
END:VEVENT
END:VCALENDAR