BEGIN:VCALENDAR
VERSION:2.0
PRODID:-//Beer.be - ECPv6.15.20//NONSGML v1.0//EN
CALSCALE:GREGORIAN
METHOD:PUBLISH
X-ORIGINAL-URL:https://beer.be
X-WR-CALDESC:Évènements pour Beer.be
REFRESH-INTERVAL;VALUE=DURATION:PT1H
X-Robots-Tag:noindex
X-PUBLISHED-TTL:PT1H
BEGIN:VTIMEZONE
TZID:Europe/Brussels
BEGIN:DAYLIGHT
TZOFFSETFROM:+0100
TZOFFSETTO:+0200
TZNAME:CEST
DTSTART:20180325T010000
END:DAYLIGHT
BEGIN:STANDARD
TZOFFSETFROM:+0200
TZOFFSETTO:+0100
TZNAME:CET
DTSTART:20181028T010000
END:STANDARD
BEGIN:DAYLIGHT
TZOFFSETFROM:+0100
TZOFFSETTO:+0200
TZNAME:CEST
DTSTART:20190331T010000
END:DAYLIGHT
BEGIN:STANDARD
TZOFFSETFROM:+0200
TZOFFSETTO:+0100
TZNAME:CET
DTSTART:20191027T010000
END:STANDARD
BEGIN:DAYLIGHT
TZOFFSETFROM:+0100
TZOFFSETTO:+0200
TZNAME:CEST
DTSTART:20200329T010000
END:DAYLIGHT
BEGIN:STANDARD
TZOFFSETFROM:+0200
TZOFFSETTO:+0100
TZNAME:CET
DTSTART:20201025T010000
END:STANDARD
END:VTIMEZONE
BEGIN:VEVENT
DTSTART;VALUE=DATE:20190330
DTEND;VALUE=DATE:20190331
DTSTAMP:20260423T040630
CREATED:20190311T150705Z
LAST-MODIFIED:20190311T150705Z
UID:13512-1553904000-1553990399@beer.be
SUMMARY:Pimp my Beer #3
DESCRIPTION:Jean-Charles nous ouvre ses portes pour notre troisième Pimp. Celui-ci aura comme thème le lactose. Nous vous invitons donc à venir à l'évènement avec quelques unes de vos créations. Pour rappel : l'évènement est gratuit et sera uniquement ouvert aux membres de l'association (pour des raisons légales\, mais l'inscription à notre association est bien entendu libre). Si tu vois ce message avant le mois de février\, sache que notre association est en cours de création 😉 L'état d'avancement est relayé sur notre groupe Facebook. Comme lors des Pimp passés un thème sera proposé par l'hôte pour l'auberge espagnole.
URL:https://beer.be/agenda/pimp-my-beer-3/
LOCATION:West Homebrewers Club\, Kareveld\, Bruxelles\, Belgique
CATEGORIES:Autre
ATTACH;FMTTYPE=image/jpeg:https://beer.be/wp-content/uploads/2019/03/47388790_301887460451666_60441605877792768_o.jpg
END:VEVENT
END:VCALENDAR