BEGIN:VCALENDAR
VERSION:2.0
PRODID:-//Beer.be - ECPv6.15.20//NONSGML v1.0//EN
CALSCALE:GREGORIAN
METHOD:PUBLISH
X-WR-CALNAME:Beer.be
X-ORIGINAL-URL:https://beer.be
X-WR-CALDESC:Évènements pour Beer.be
REFRESH-INTERVAL;VALUE=DURATION:PT1H
X-Robots-Tag:noindex
X-PUBLISHED-TTL:PT1H
BEGIN:VTIMEZONE
TZID:Europe/Brussels
BEGIN:DAYLIGHT
TZOFFSETFROM:+0100
TZOFFSETTO:+0200
TZNAME:CEST
DTSTART:20180325T010000
END:DAYLIGHT
BEGIN:STANDARD
TZOFFSETFROM:+0200
TZOFFSETTO:+0100
TZNAME:CET
DTSTART:20181028T010000
END:STANDARD
BEGIN:DAYLIGHT
TZOFFSETFROM:+0100
TZOFFSETTO:+0200
TZNAME:CEST
DTSTART:20190331T010000
END:DAYLIGHT
BEGIN:STANDARD
TZOFFSETFROM:+0200
TZOFFSETTO:+0100
TZNAME:CET
DTSTART:20191027T010000
END:STANDARD
BEGIN:DAYLIGHT
TZOFFSETFROM:+0100
TZOFFSETTO:+0200
TZNAME:CEST
DTSTART:20200329T010000
END:DAYLIGHT
BEGIN:STANDARD
TZOFFSETFROM:+0200
TZOFFSETTO:+0100
TZNAME:CET
DTSTART:20201025T010000
END:STANDARD
END:VTIMEZONE
BEGIN:VEVENT
DTSTART;VALUE=DATE:20191214
DTEND;VALUE=DATE:20191215
DTSTAMP:20260422T150858
CREATED:20191203T154546Z
LAST-MODIFIED:20191203T154546Z
UID:14724-1576281600-1576367999@beer.be
SUMMARY:Moving Fermentation ep.4 : Polish Clash
DESCRIPTION:🤜 3 breweries 15 beers 🤛Browar Artezan\, Browar Maryensztadt\, Browar Ziemia Obiecana 🇵🇱🍻 Who said Poland is not a beer country? That's a big lie!! 🍺🥊 The beer scene is in fermentation since a while and for our last episode of the year we've chosen 3 fighters for the Moeder's ring. It's gonna be a clash at the rhythm of taps: Ipa\, Double Ipa\, Stout\, Imperial Stout\, Sour Ale... and more. 🍺🥊
URL:https://beer.be/agenda/moving-fermentation-ep-4-polish-clash/
LOCATION:Moeder Lambic Fontainas\, 8 place Fontainas\, Bruxelles\, Bruxelles\, 1000\, Belgique
CATEGORIES:Moeder Lambic
ATTACH;FMTTYPE=image/jpeg:https://beer.be/wp-content/uploads/2019/12/78947826_10156971504022686_3557376915692060672_o.jpg
END:VEVENT
END:VCALENDAR