BEGIN:VCALENDAR
VERSION:2.0
PRODID:-//Beer.be - ECPv6.15.20//NONSGML v1.0//EN
CALSCALE:GREGORIAN
METHOD:PUBLISH
X-WR-CALNAME:Beer.be
X-ORIGINAL-URL:https://beer.be
X-WR-CALDESC:Évènements pour Beer.be
REFRESH-INTERVAL;VALUE=DURATION:PT1H
X-Robots-Tag:noindex
X-PUBLISHED-TTL:PT1H
BEGIN:VTIMEZONE
TZID:Europe/Brussels
BEGIN:DAYLIGHT
TZOFFSETFROM:+0100
TZOFFSETTO:+0200
TZNAME:CEST
DTSTART:20200329T010000
END:DAYLIGHT
BEGIN:STANDARD
TZOFFSETFROM:+0200
TZOFFSETTO:+0100
TZNAME:CET
DTSTART:20201025T010000
END:STANDARD
BEGIN:DAYLIGHT
TZOFFSETFROM:+0100
TZOFFSETTO:+0200
TZNAME:CEST
DTSTART:20210328T010000
END:DAYLIGHT
BEGIN:STANDARD
TZOFFSETFROM:+0200
TZOFFSETTO:+0100
TZNAME:CET
DTSTART:20211031T010000
END:STANDARD
BEGIN:DAYLIGHT
TZOFFSETFROM:+0100
TZOFFSETTO:+0200
TZNAME:CEST
DTSTART:20220327T010000
END:DAYLIGHT
BEGIN:STANDARD
TZOFFSETFROM:+0200
TZOFFSETTO:+0100
TZNAME:CET
DTSTART:20221030T010000
END:STANDARD
END:VTIMEZONE
BEGIN:VEVENT
DTSTART;VALUE=DATE:20210916
DTEND;VALUE=DATE:20210917
DTSTAMP:20260424T150319
CREATED:20210901T054144Z
LAST-MODIFIED:20210901T054144Z
UID:17443-1631750400-1631836799@beer.be
SUMMARY:Proeverij: Saisons uit Brussel en omgeving
DESCRIPTION:Voor onze eerste najaar proeverij gaan we even grasduinen in de Brusselse bieren van het type SAISON. We vergelijken 7 Brusselse bieren en ééntje uit Vilvoorde.\nWie haalt de hoogste score? Aan jullie om het te bepalen.\nSaison is een biersoort die zijn oorsprong vindt in de Belgische provincie Henegouwen.\nSaison is het Frans woord voor seizoen omdat dit een seizoenbier was. Dit bier werd oorspronkelijk door de boeren gebrouwen in de winter om gedronken te worden door de seizoenarbeiders in het oogstseizoen. Men moest wel in de winter brouwen om te voorkomen dat het bier slecht zou worden gedurende de bewa¬ring. Deze bieren hadden een alcoholpercentage rond de 3% en waren extra gehopt voor de houdbaar¬heid.\nDe hedendaagse saison bieren worden het gehele jaar door gebrouwen en niet enkel meer in Wallonië. De meeste bieren zijn goudblonde tot amberkleurige ongefilterde bieren van hoge gisting en hebben een alco-holpercentage tussen 5% en 6\,5%.\nDe proeverij gaat fysiek door in de Loods van Gemeenschapscentrum Op-Weule. De organisatie gebeurt volledig corona veilig volgens de HoReCa regels. Het lokaal is voorzien van alle ontsmettingsmiddelen en beschikt over een CO2 meter om over de luchtkwaliteit te waken. U draagt een mondmasker bij binnen¬komst en zolang je niet aan de tafel zit. Inschrijven doet u met deze link en je betaalt € 20 per persoon voor leden van de Biergilde of € 25 voor niet-leden.\nBetalen doe je\, na het invullen van jouw gegevens op de link\, op rekeningnummer\nBE06 9797 8615 7622 van Biergilde Het Lindeke met vermelding ‘Proeverij 16/9’.\nVoor meer info\, ook technische vragen\, mag je steeds bellen naar Luc (0476 348 406)
URL:https://beer.be/agenda/proeverij-saisons-uit-brussel-en-omgeving/
LOCATION:Op-Weule\, 91 Sint-Lambertusstraat\, Woluwé-Saint-Lambert\, 1200\, Belgique
CATEGORIES:Dégustation
ATTACH;FMTTYPE=image/jpeg:https://beer.be/wp-content/uploads/2021/09/241129891_4461123420639509_6738836382402930892_n.jpg
END:VEVENT
END:VCALENDAR