BEGIN:VCALENDAR
VERSION:2.0
PRODID:-//Beer.be - ECPv6.15.20//NONSGML v1.0//EN
CALSCALE:GREGORIAN
METHOD:PUBLISH
X-ORIGINAL-URL:https://beer.be
X-WR-CALDESC:Évènements pour Beer.be
REFRESH-INTERVAL;VALUE=DURATION:PT1H
X-Robots-Tag:noindex
X-PUBLISHED-TTL:PT1H
BEGIN:VTIMEZONE
TZID:Europe/Brussels
BEGIN:DAYLIGHT
TZOFFSETFROM:+0100
TZOFFSETTO:+0200
TZNAME:CEST
DTSTART:20180325T010000
END:DAYLIGHT
BEGIN:STANDARD
TZOFFSETFROM:+0200
TZOFFSETTO:+0100
TZNAME:CET
DTSTART:20181028T010000
END:STANDARD
BEGIN:DAYLIGHT
TZOFFSETFROM:+0100
TZOFFSETTO:+0200
TZNAME:CEST
DTSTART:20190331T010000
END:DAYLIGHT
BEGIN:STANDARD
TZOFFSETFROM:+0200
TZOFFSETTO:+0100
TZNAME:CET
DTSTART:20191027T010000
END:STANDARD
BEGIN:DAYLIGHT
TZOFFSETFROM:+0100
TZOFFSETTO:+0200
TZNAME:CEST
DTSTART:20200329T010000
END:DAYLIGHT
BEGIN:STANDARD
TZOFFSETFROM:+0200
TZOFFSETTO:+0100
TZNAME:CET
DTSTART:20201025T010000
END:STANDARD
END:VTIMEZONE
BEGIN:VEVENT
DTSTART;VALUE=DATE:20190614
DTEND;VALUE=DATE:20190615
DTSTAMP:20260422T015139
CREATED:20190601T132437Z
LAST-MODIFIED:20190601T132437Z
UID:13961-1560470400-1560556799@beer.be
SUMMARY:Savage Friday #1 Host: La Source & Fermenthings
DESCRIPTION:Fermenthings et La Source\, en partenariat avec leurs voisins brasseurs En Stoemelings et No Science\, vous proposent une série de trois afterworks : 3 vendredis\, dans 3 brasseries différentes avec 3 foodtrucks! Venez rencontrer les producteurs chez eux\, buvez un coup et mangez un morceaux\, tout ça à prix friendly! 🙂 Pour cette première soirée\, venez découvrir le Be-Here\, futur local de La Source et Fermenthings. Au menu : des bières des 3 brasseries à la pompe\, de la street food signée Fermenthings et 2 invités.
URL:https://beer.be/agenda/savage-friday-1-host-la-source-fermenthings/
LOCATION:La Source Beer Co.\, 4 rue Dieudonné Lefèvre\, Bruxelles\, 1020\, Belgique
CATEGORIES:Fermenthings
ATTACH;FMTTYPE=image/jpeg:https://beer.be/wp-content/uploads/2019/06/61654467_676505786108786_904876676427546624_o.jpg
END:VEVENT
END:VCALENDAR