BEGIN:VCALENDAR
VERSION:2.0
PRODID:-//Beer.be - ECPv6.15.20//NONSGML v1.0//EN
CALSCALE:GREGORIAN
METHOD:PUBLISH
X-WR-CALNAME:Beer.be
X-ORIGINAL-URL:https://beer.be
X-WR-CALDESC:Évènements pour Beer.be
REFRESH-INTERVAL;VALUE=DURATION:PT1H
X-Robots-Tag:noindex
X-PUBLISHED-TTL:PT1H
BEGIN:VTIMEZONE
TZID:Europe/Brussels
BEGIN:DAYLIGHT
TZOFFSETFROM:+0100
TZOFFSETTO:+0200
TZNAME:CEST
DTSTART:20180325T010000
END:DAYLIGHT
BEGIN:STANDARD
TZOFFSETFROM:+0200
TZOFFSETTO:+0100
TZNAME:CET
DTSTART:20181028T010000
END:STANDARD
BEGIN:DAYLIGHT
TZOFFSETFROM:+0100
TZOFFSETTO:+0200
TZNAME:CEST
DTSTART:20190331T010000
END:DAYLIGHT
BEGIN:STANDARD
TZOFFSETFROM:+0200
TZOFFSETTO:+0100
TZNAME:CET
DTSTART:20191027T010000
END:STANDARD
BEGIN:DAYLIGHT
TZOFFSETFROM:+0100
TZOFFSETTO:+0200
TZNAME:CEST
DTSTART:20200329T010000
END:DAYLIGHT
BEGIN:STANDARD
TZOFFSETFROM:+0200
TZOFFSETTO:+0100
TZNAME:CET
DTSTART:20201025T010000
END:STANDARD
END:VTIMEZONE
BEGIN:VEVENT
DTSTART;VALUE=DATE:20190405
DTEND;VALUE=DATE:20190406
DTSTAMP:20260425T154202
CREATED:20190318T131121Z
LAST-MODIFIED:20190318T131121Z
UID:13580-1554422400-1554508799@beer.be
SUMMARY:Brewer's Delight #23 - Reservoir Dogs Brewery (SI)
DESCRIPTION:A couple of months ago\, our 'Juju national' went on tour with his band in Slovenia\, tasted some local craft and decided to bring us back a selection of Reservoir Dogs brewery beers. So much good thinking and WOW! what a beautiful discovery! Come meet brewmaster Alijosa and founder Andrej and taste some exquisite 11 beers on tap and more in bottles! Very young brewery but already 2 years in a row best Slovenian brewery\, these guys are modern focused and bring us very clean.
URL:https://beer.be/agenda/brewers-delight-23-reservoir-dogs-brewery-si/
LOCATION:Barboteur\, 23 avenue Louis Bertrand\, Bruxelles\, Schaerbeek\, 1030\, Belgique
CATEGORIES:Barboteur
ATTACH;FMTTYPE=image/jpeg:https://beer.be/wp-content/uploads/2019/03/53786433_1152421804939862_3488990737008164864_n.jpg
END:VEVENT
BEGIN:VEVENT
DTSTART;VALUE=DATE:20190425
DTEND;VALUE=DATE:20190426
DTSTAMP:20260425T154202
CREATED:20190502T135052Z
LAST-MODIFIED:20190502T135052Z
UID:13806-1556150400-1556236799@beer.be
SUMMARY:Dégustation de bière
DESCRIPTION:Depuis un moment\, on veut ajouter une panoplie de bières à notre carte\, que ce soit au fût ou en bouteille. Au final c'est vous qui la boirez alors autant vous laisser faire la sélection... Pas de discussion d'experts\, les critères sont : le goût\, le souvenir qu'elle vous laisse\, le bon moment passé à en parler. Celadit\, pour vous aider\, Olivier\, de la toute jeune Brasserie H2O (située à la chaussée de Haecht) sera présent. Et sa bière aussi\, naturellement! L'occasion de faire connaissance avec un artisan qui brasse pas loin du Babelmet.
URL:https://beer.be/agenda/degustation-de-biere/
LOCATION:Babelmet\, 40 rue Richard Vandevelde\, Bruxelles\, 1030\, Belgique
CATEGORIES:Dégustation
ATTACH;FMTTYPE=image/jpeg:https://beer.be/wp-content/uploads/2019/05/55910098_2251447811580218_5580705712138354688_n.jpg
END:VEVENT
END:VCALENDAR