BEGIN:VCALENDAR
VERSION:2.0
PRODID:-//Beer.be - ECPv6.15.20//NONSGML v1.0//EN
CALSCALE:GREGORIAN
METHOD:PUBLISH
X-ORIGINAL-URL:https://beer.be
X-WR-CALDESC:Évènements pour Beer.be
REFRESH-INTERVAL;VALUE=DURATION:PT1H
X-Robots-Tag:noindex
X-PUBLISHED-TTL:PT1H
BEGIN:VTIMEZONE
TZID:Europe/Brussels
BEGIN:DAYLIGHT
TZOFFSETFROM:+0100
TZOFFSETTO:+0200
TZNAME:CEST
DTSTART:20180325T010000
END:DAYLIGHT
BEGIN:STANDARD
TZOFFSETFROM:+0200
TZOFFSETTO:+0100
TZNAME:CET
DTSTART:20181028T010000
END:STANDARD
BEGIN:DAYLIGHT
TZOFFSETFROM:+0100
TZOFFSETTO:+0200
TZNAME:CEST
DTSTART:20190331T010000
END:DAYLIGHT
BEGIN:STANDARD
TZOFFSETFROM:+0200
TZOFFSETTO:+0100
TZNAME:CET
DTSTART:20191027T010000
END:STANDARD
BEGIN:DAYLIGHT
TZOFFSETFROM:+0100
TZOFFSETTO:+0200
TZNAME:CEST
DTSTART:20200329T010000
END:DAYLIGHT
BEGIN:STANDARD
TZOFFSETFROM:+0200
TZOFFSETTO:+0100
TZNAME:CET
DTSTART:20201025T010000
END:STANDARD
END:VTIMEZONE
BEGIN:VEVENT
DTSTART;VALUE=DATE:20190504
DTEND;VALUE=DATE:20190505
DTSTAMP:20260425T141101
CREATED:20190412T081056Z
LAST-MODIFIED:20190412T081056Z
UID:13754-1556928000-1557014399@beer.be
SUMMARY:Brewer's Delight #25 - Hop Hooligans (RO)
DESCRIPTION:Throw away your mass-produced skunky lagers! Forget everything you generally knew about beer! Hide your women and children! The Hop Hooligans are here for a massive tap takeover ! \nOn Tap :\nTAP 1 : Crowd Control - Neipa\nTAP 2 : Slice Of Pi - Milkshake Ipa\nTAP 3 : Sencha - Tea pale ale\nTAP 4 : Bee With me - Imperial Porter with honey\nTAP 5 : New Lands - Ipa\nTAP 6 : Caravanserai - Lapsang Souchong Imperial Stout\nTAP 7 : Sourpuss: blackcurrant - Berliner Weisse\nTAP 8 : Yuri's Cosmic Basil - Berliner Weisse\nTAP 9 : Shadi sushi - Neipa\nTAP 10 : Alien Juice - Blackcurrant session milkshake ipa\nTAP 11 : Collision Course - Double Ipa
URL:https://beer.be/agenda/brewers-delight-25-hop-hooligans-ro/
LOCATION:Barboteur\, 23 avenue Louis Bertrand\, Bruxelles\, Schaerbeek\, 1030\, Belgique
CATEGORIES:Barboteur
ATTACH;FMTTYPE=image/jpeg:https://beer.be/wp-content/uploads/2019/04/56973966_1168331743348868_5747938162252972032_o.jpg
END:VEVENT
END:VCALENDAR