BEGIN:VCALENDAR
VERSION:2.0
PRODID:-//Beer.be - ECPv6.15.20//NONSGML v1.0//EN
CALSCALE:GREGORIAN
METHOD:PUBLISH
X-ORIGINAL-URL:https://beer.be
X-WR-CALDESC:Évènements pour Beer.be
REFRESH-INTERVAL;VALUE=DURATION:PT1H
X-Robots-Tag:noindex
X-PUBLISHED-TTL:PT1H
BEGIN:VTIMEZONE
TZID:Europe/Brussels
BEGIN:DAYLIGHT
TZOFFSETFROM:+0100
TZOFFSETTO:+0200
TZNAME:CEST
DTSTART:20190331T010000
END:DAYLIGHT
BEGIN:STANDARD
TZOFFSETFROM:+0200
TZOFFSETTO:+0100
TZNAME:CET
DTSTART:20191027T010000
END:STANDARD
BEGIN:DAYLIGHT
TZOFFSETFROM:+0100
TZOFFSETTO:+0200
TZNAME:CEST
DTSTART:20200329T010000
END:DAYLIGHT
BEGIN:STANDARD
TZOFFSETFROM:+0200
TZOFFSETTO:+0100
TZNAME:CET
DTSTART:20201025T010000
END:STANDARD
BEGIN:DAYLIGHT
TZOFFSETFROM:+0100
TZOFFSETTO:+0200
TZNAME:CEST
DTSTART:20210328T010000
END:DAYLIGHT
BEGIN:STANDARD
TZOFFSETFROM:+0200
TZOFFSETTO:+0100
TZNAME:CET
DTSTART:20211031T010000
END:STANDARD
END:VTIMEZONE
BEGIN:VEVENT
DTSTART;VALUE=DATE:20200814
DTEND;VALUE=DATE:20200815
DTSTAMP:20260423T204335
CREATED:20200806T093247Z
LAST-MODIFIED:20200806T093247Z
UID:15514-1597363200-1597449599@beer.be
SUMMARY:Weird Beard - The Come Back of a Legend
DESCRIPTION:It has been a quite long time since we last got Weird Beard beers in Brussels. The brewery slowed a bit the production but the passion and the focus on black beers and experimentations stayed the same. We'll have a (little) event on Friday 14 to celebrate the come back of a dark beer legend with 6 beers on tap and 10 more by the bottle/can. \nTap List:\n1) Bat Oat of Hell - DDH Pale Ale\n2) Mariana Trench - Pale Ale\n3) Born of Fire - Mixed Fermentation Smoked Spicy Rauchbier\n4) Zombie - Cranberry Porter\n5) Salty Liquorice Tattoo - Imperial Stout (with Salt & Liquorice)\n6) Ryeclops Ryesing - Rye Stout \nCan/Bottle List:\n7) Gravelands - Session IPA\n8) Little Things That Kill - Session IPA\n9) F@#k You I Won't Brew What You Tell Me - West Coast Double IPA\n10) Five O'Clock Shadow - IPA\n11) Dark Hopfler - Dark Mild Ale\n12) If Only The Hof Had A Beard - Sour Session IPA\n13) Knight in Sour Armour - Sour Black IPA\n14) Pogonotrophy Project I - Mixed Fermentation Cranberry Stout\n15) Sign of the Southern Cross - Black IPA\n16) Sadako - Imperial Stout
URL:https://beer.be/agenda/weird-beard-the-come-back-of-a-legend/
CATEGORIES:Dynamo
ATTACH;FMTTYPE=image/jpeg:https://beer.be/wp-content/uploads/2020/08/117182622_2982447701854365_2184548127762740093_o.jpg
END:VEVENT
END:VCALENDAR