BEGIN:VCALENDAR
VERSION:2.0
PRODID:-//Beer.be - ECPv6.15.20//NONSGML v1.0//EN
CALSCALE:GREGORIAN
METHOD:PUBLISH
X-ORIGINAL-URL:https://beer.be
X-WR-CALDESC:Évènements pour Beer.be
REFRESH-INTERVAL;VALUE=DURATION:PT1H
X-Robots-Tag:noindex
X-PUBLISHED-TTL:PT1H
BEGIN:VTIMEZONE
TZID:Europe/Brussels
BEGIN:DAYLIGHT
TZOFFSETFROM:+0100
TZOFFSETTO:+0200
TZNAME:CEST
DTSTART:20190331T010000
END:DAYLIGHT
BEGIN:STANDARD
TZOFFSETFROM:+0200
TZOFFSETTO:+0100
TZNAME:CET
DTSTART:20191027T010000
END:STANDARD
BEGIN:DAYLIGHT
TZOFFSETFROM:+0100
TZOFFSETTO:+0200
TZNAME:CEST
DTSTART:20200329T010000
END:DAYLIGHT
BEGIN:STANDARD
TZOFFSETFROM:+0200
TZOFFSETTO:+0100
TZNAME:CET
DTSTART:20201025T010000
END:STANDARD
BEGIN:DAYLIGHT
TZOFFSETFROM:+0100
TZOFFSETTO:+0200
TZNAME:CEST
DTSTART:20210328T010000
END:DAYLIGHT
BEGIN:STANDARD
TZOFFSETFROM:+0200
TZOFFSETTO:+0100
TZNAME:CET
DTSTART:20211031T010000
END:STANDARD
END:VTIMEZONE
BEGIN:VEVENT
DTSTART;VALUE=DATE:20200825
DTEND;VALUE=DATE:20200830
DTSTAMP:20260425T192748
CREATED:20200820T170513Z
LAST-MODIFIED:20200820T170513Z
UID:15637-1598313600-1598745599@beer.be
SUMMARY:Release wedding beer Dylan + Amina
DESCRIPTION:The release of the long-anticipated wedding “beer” made for the owners of Siris Pop-Up Bar – who got married July 20th 2020. This event-pack will consist of the beer\, the product of the barrel it aged in\, as well as the very exclusive drink that was blended into the final product. Exclusively sold in these packs and exclusively available at Siris Pop-Up Bar.
URL:https://beer.be/agenda/release-wedding-beer-dylan-amina/
LOCATION:Siris\, Stack B.04 \, Rijnkaai\, Anvers\, 2000\, Belgique
CATEGORIES:Autre
ATTACH;FMTTYPE=image/jpeg:https://beer.be/wp-content/uploads/2020/08/Wedding-beer-720x650-1.jpg
END:VEVENT
BEGIN:VEVENT
DTSTART;VALUE=DATE:20200829
DTEND;VALUE=DATE:20200830
DTSTAMP:20260425T192748
CREATED:20200820T173410Z
LAST-MODIFIED:20200820T173410Z
UID:15677-1598659200-1598745599@beer.be
SUMMARY:Beer in unexpected places
DESCRIPTION:We now you all love beer\, and we do to! So much even\, that we enjoy other beverages that use beer unexpectedly. How about a whiskey aged in beer barrels? Or a cider with lambic ? During this event\, we will serve you 4 tasters of beverages\, that you normally wouldn’t link to beer\, but were made with beer!
URL:https://beer.be/agenda/beer-in-unexpected-places/
LOCATION:Siris\, Stack B.04 \, Rijnkaai\, Anvers\, 2000\, Belgique
CATEGORIES:Dégustation
ATTACH;FMTTYPE=image/png:https://beer.be/wp-content/uploads/2020/08/BBW-no-foto-gray.png
END:VEVENT
END:VCALENDAR