BEGIN:VCALENDAR
VERSION:2.0
PRODID:-//Beer.be - ECPv6.15.20//NONSGML v1.0//EN
CALSCALE:GREGORIAN
METHOD:PUBLISH
X-ORIGINAL-URL:https://beer.be
X-WR-CALDESC:Évènements pour Beer.be
REFRESH-INTERVAL;VALUE=DURATION:PT1H
X-Robots-Tag:noindex
X-PUBLISHED-TTL:PT1H
BEGIN:VTIMEZONE
TZID:Europe/Brussels
BEGIN:DAYLIGHT
TZOFFSETFROM:+0100
TZOFFSETTO:+0200
TZNAME:CEST
DTSTART:20200329T010000
END:DAYLIGHT
BEGIN:STANDARD
TZOFFSETFROM:+0200
TZOFFSETTO:+0100
TZNAME:CET
DTSTART:20201025T010000
END:STANDARD
BEGIN:DAYLIGHT
TZOFFSETFROM:+0100
TZOFFSETTO:+0200
TZNAME:CEST
DTSTART:20210328T010000
END:DAYLIGHT
BEGIN:STANDARD
TZOFFSETFROM:+0200
TZOFFSETTO:+0100
TZNAME:CET
DTSTART:20211031T010000
END:STANDARD
BEGIN:DAYLIGHT
TZOFFSETFROM:+0100
TZOFFSETTO:+0200
TZNAME:CEST
DTSTART:20220327T010000
END:DAYLIGHT
BEGIN:STANDARD
TZOFFSETFROM:+0200
TZOFFSETTO:+0100
TZNAME:CET
DTSTART:20221030T010000
END:STANDARD
END:VTIMEZONE
BEGIN:VEVENT
DTSTART;VALUE=DATE:20211112
DTEND;VALUE=DATE:20211114
DTSTAMP:20260420T125658
CREATED:20211113T103006Z
LAST-MODIFIED:20211113T103006Z
UID:18154-1636675200-1636847999@beer.be
SUMMARY:Stout Sure Meuse 2021
DESCRIPTION:Stout Sure Meuse revient! Notre événement dédié aux bières noires et aux bières acides est de retour! Le vendredi 12 novembre de 15h à minuit et le samedi 13 novembre de 11h à minuit\, venez découvrir une cinquantaine de bières noires et acides. Entrée gratuite! Bloquez d'ores et déjà votre agenda... Le "menu de bières" que nous vous préparons sera dévoilé petit à petit sur cette page!\nIl y en aura pour tous les goûts: Stouts (et ses dérivés)\, Porter\, Black IPA\, sour IPA\, gueuze\, kriek\, pastry sour\, vieilles brunes\, gose\, sans alcool.
URL:https://beer.be/agenda/stout-sure-meuse-2021/
LOCATION:Brasserie de la Houppe\, 49 avenue de la Plante\, Namur\, 5000\, Belgique
CATEGORIES:Festival
ATTACH;FMTTYPE=image/jpeg:https://beer.be/wp-content/uploads/2021/11/253213189_6276881849053454_3554027591816497399_n.jpg
END:VEVENT
END:VCALENDAR