BEGIN:VCALENDAR
VERSION:2.0
PRODID:-//Beer.be - ECPv6.15.20//NONSGML v1.0//EN
CALSCALE:GREGORIAN
METHOD:PUBLISH
X-WR-CALNAME:Beer.be
X-ORIGINAL-URL:https://beer.be
X-WR-CALDESC:Évènements pour Beer.be
REFRESH-INTERVAL;VALUE=DURATION:PT1H
X-Robots-Tag:noindex
X-PUBLISHED-TTL:PT1H
BEGIN:VTIMEZONE
TZID:Europe/Brussels
BEGIN:DAYLIGHT
TZOFFSETFROM:+0100
TZOFFSETTO:+0200
TZNAME:CEST
DTSTART:20180325T010000
END:DAYLIGHT
BEGIN:STANDARD
TZOFFSETFROM:+0200
TZOFFSETTO:+0100
TZNAME:CET
DTSTART:20181028T010000
END:STANDARD
BEGIN:DAYLIGHT
TZOFFSETFROM:+0100
TZOFFSETTO:+0200
TZNAME:CEST
DTSTART:20190331T010000
END:DAYLIGHT
BEGIN:STANDARD
TZOFFSETFROM:+0200
TZOFFSETTO:+0100
TZNAME:CET
DTSTART:20191027T010000
END:STANDARD
BEGIN:DAYLIGHT
TZOFFSETFROM:+0100
TZOFFSETTO:+0200
TZNAME:CEST
DTSTART:20200329T010000
END:DAYLIGHT
BEGIN:STANDARD
TZOFFSETFROM:+0200
TZOFFSETTO:+0100
TZNAME:CET
DTSTART:20201025T010000
END:STANDARD
END:VTIMEZONE
BEGIN:VEVENT
DTSTART;VALUE=DATE:20190816
DTEND;VALUE=DATE:20190817
DTSTAMP:20260424T185437
CREATED:20190809T135558Z
LAST-MODIFIED:20190809T135558Z
UID:14152-1565913600-1565999999@beer.be
SUMMARY:Cloudwater\, ça te dipa!
DESCRIPTION:The Dynamo finally reopens after a summer break! We suffered so much of the quality of beers during our time far from Belgium that we (desperately) needed some great hops. And what better that Cloudwater for this! Especially when you see the lineup we put together. We can't wait to reopen! \nOn tap:\n- pale ale\n- international team meeting - NE Pale\n- DDH Pale\n- IPA\n- CY18 Simcoe - IPA\n- CY18 Citra - IPA\n- Are We Unique? - DIPA\n- A Beautiful Horse - DIPA\n- Nice IRL - DIPA\n- The Act of Chewing - Imperial Stout\n- Bourbon BA Barley Wine \nCans:\n- West Coast Pale\n- West Coast IPA\n- Double Dry Mopped - IPA
URL:https://beer.be/agenda/cloudwater-ca-te-dipa/
CATEGORIES:Dynamo
ATTACH;FMTTYPE=image/jpeg:https://beer.be/wp-content/uploads/2019/08/68425344_2205391129560030_5575659512112611328_o.jpg
END:VEVENT
BEGIN:VEVENT
DTSTART;VALUE=DATE:20190822
DTEND;VALUE=DATE:20190823
DTSTAMP:20260424T185437
CREATED:20190817T103355Z
LAST-MODIFIED:20190817T103355Z
UID:14177-1566432000-1566518399@beer.be
SUMMARY:The Bruery Tap Take Over\, meet Keith from Bruery Terreux
DESCRIPTION:Founded in 2008 by Patrick Rue\, B"Rue"ry was the perfect choice when it came to name his brewery. Coming straight from California\, the Bruery is joining us for their first TTO in the country that inspired them so much since day one. The Bruery is world famous by specializing in barrel aging and experimental ales. Bruery Terreux is their oak-aging sour & wild beers project. Keith Pumilia\, production manager from Bruery Terreux will be from the party! Come to meet him\, and feel free to have a talk or ask every question you have in mind! We'll have 22 beers available on keg\, and a couple of big whales in bottles\, sometimes super limited. We'll make a rotation of the kegs in order to offer the 22 beers on the same day!
URL:https://beer.be/agenda/the-bruery-tap-take-over-meet-keith-from-bruery-terreux/
LOCATION:Beergium Bar\, 1227 Chaussée de Waterloo\, Bruxelles\, 1180\, Belgique
CATEGORIES:Tap Takeover
ATTACH;FMTTYPE=image/jpeg:https://beer.be/wp-content/uploads/2019/08/67735089_2424635487773561_3618211347868680192_o.jpg
END:VEVENT
BEGIN:VEVENT
DTSTART;VALUE=DATE:20190823
DTEND;VALUE=DATE:20190824
DTSTAMP:20260424T185437
CREATED:20190817T103841Z
LAST-MODIFIED:20190817T103841Z
UID:14187-1566518400-1566604799@beer.be
SUMMARY:Double Tap Takeover: NIX + Anarchy Brewing Co
DESCRIPTION:Op vrijdag 23 Augustus nodigen we 2 brouwerijen uit voor een Double Tap Takeover: uit Italie: NIX en uit de UK: Anarchy Brew Co. Beide brouwers nemen elks 4 bieren mee op vat. en zelf zullen ze er ook bij zijn. Deze Tap Takover is powered by Razernij-Beerdinkers & Hellraisers. Tot dan! Start om 20.00u. Cheers!
URL:https://beer.be/agenda/double-tap-takeover-nix-anarchy-brewing-co/
LOCATION:Beerlovers Bar\, Rotterdamstraat 105\, Anvers\, 2060\, Belgique
CATEGORIES:Tap Takeover
ATTACH;FMTTYPE=image/jpeg:https://beer.be/wp-content/uploads/2019/08/68604065_1065471000510563_95609377918025728_n.jpg
END:VEVENT
BEGIN:VEVENT
DTSTART;VALUE=DATE:20190823
DTEND;VALUE=DATE:20190824
DTSTAMP:20260424T185437
CREATED:20190823T080822Z
LAST-MODIFIED:20190823T080822Z
UID:14206-1566518400-1566604799@beer.be
SUMMARY:Tap Takeover - PIGGY Brewing Company
DESCRIPTION:Ce Vendredi\, ça chauffe au Moeder! Pour se mettre dans le bain et bien se préparer pour ce weekend\, on vous a ramené nos amis de The Piggy Brewing Company. Quand il s'agit de fêter\, célébrer et vivre il n'y a pas mieux! Ces Lorrains nous concoctent régulièrement des petits délices\, suivant une philosophie épicurienne nos "Gros" préférés ne se prennent pas la tête et jouent\, tweak et innovent sur des arômes tantôt familiers\, tantôt loufoques. \nAux pompes il y aura: \n-Paradise Peppers - Pale ale au Citron vert et Poivre du Sishuan\n-Primavera - Sour IPA fruitée a l'acidité délicate\n-Hazzy Juicy Tutti fruitti - IPA juicy 100% Mosaic\n-Eroica - (NE)IPA trouble et fruité à l'amertume sèche\n-Lupulin Diktat - DIPA fruitée structurée à l'amertume longue en bouche\n-Golden Tickets - Berliner Weisse Mirabelle-Safran\n-Mister Brown - Brune a l'Anglaise\, sèche et franche \nCoté Miam-Miam on ne voudrait pas vous laisser sur votre faim et on vous a donc concocté une petite sélection pour continuer avec du "Piggy": Dans le cochon tout est bon!\n-Rillettes de cochon à la gueuze\n-Terrine de Cochon à la gueuze\n-Burger de boudin noir\n-Sandwich Pulled pork \nConcrètement bières disponibles dès 16h\, nourriture dès 18h et bonne humeur toute la nuit! (Pst\, le lendemain c'est le BXLBeerFest 2019 donc accroche ton slip pour ce weekend 😉 )
URL:https://beer.be/agenda/tap-takeover-piggy-brewing-company/
LOCATION:Moeder Lambic Fontainas\, 8 place Fontainas\, Bruxelles\, Bruxelles\, 1000\, Belgique
CATEGORIES:Moeder Lambic
ATTACH;FMTTYPE=image/jpeg:https://beer.be/wp-content/uploads/2019/08/69058522_894894634213188_1698454420750073856_n.jpg
END:VEVENT
END:VCALENDAR