BEGIN:VCALENDAR
VERSION:2.0
PRODID:-//Beer.be - ECPv6.15.20//NONSGML v1.0//EN
CALSCALE:GREGORIAN
METHOD:PUBLISH
X-WR-CALNAME:Beer.be
X-ORIGINAL-URL:https://beer.be
X-WR-CALDESC:Évènements pour Beer.be
REFRESH-INTERVAL;VALUE=DURATION:PT1H
X-Robots-Tag:noindex
X-PUBLISHED-TTL:PT1H
BEGIN:VTIMEZONE
TZID:Europe/Brussels
BEGIN:DAYLIGHT
TZOFFSETFROM:+0100
TZOFFSETTO:+0200
TZNAME:CEST
DTSTART:20190331T010000
END:DAYLIGHT
BEGIN:STANDARD
TZOFFSETFROM:+0200
TZOFFSETTO:+0100
TZNAME:CET
DTSTART:20191027T010000
END:STANDARD
BEGIN:DAYLIGHT
TZOFFSETFROM:+0100
TZOFFSETTO:+0200
TZNAME:CEST
DTSTART:20200329T010000
END:DAYLIGHT
BEGIN:STANDARD
TZOFFSETFROM:+0200
TZOFFSETTO:+0100
TZNAME:CET
DTSTART:20201025T010000
END:STANDARD
BEGIN:DAYLIGHT
TZOFFSETFROM:+0100
TZOFFSETTO:+0200
TZNAME:CEST
DTSTART:20210328T010000
END:DAYLIGHT
BEGIN:STANDARD
TZOFFSETFROM:+0200
TZOFFSETTO:+0100
TZNAME:CET
DTSTART:20211031T010000
END:STANDARD
END:VTIMEZONE
BEGIN:VEVENT
DTSTART;VALUE=DATE:20200311
DTEND;VALUE=DATE:20200314
DTSTAMP:20260424T082004
CREATED:20200221T074522Z
LAST-MODIFIED:20200221T074522Z
UID:15172-1583884800-1584143999@beer.be
SUMMARY:Piccolo Birrificio Clandestino TTO
DESCRIPTION:Straight from Livorno in Tuscany\, one of the historical and finest italian craft breweries will be joining us to invade our taste buds with their liquid wonders! These guys take the time to pamper their yeast and carefully select the hops\, malts and spices in their brews to make them so enjoyable that we'll be sipping our glasses clean in no time....
URL:https://beer.be/agenda/piccolo-birrificio-clandestino-tto/
LOCATION:Brewdog\, Putterij 20\, Brussels\, 1000\, Belgique
CATEGORIES:Tap Takeover
ATTACH;FMTTYPE=image/jpeg:https://beer.be/wp-content/uploads/2020/02/86488778_1812885492174869_604818230925590528_n.jpg
END:VEVENT
BEGIN:VEVENT
DTSTART;VALUE=DATE:20200313
DTEND;VALUE=DATE:20200314
DTSTAMP:20260424T082004
CREATED:20200301T103258Z
LAST-MODIFIED:20200301T103258Z
UID:15210-1584057600-1584143999@beer.be
SUMMARY:Brewer's Delight #30 - La Source & Vote for housebeer & Dj Duke
DESCRIPTION:🍻👀Oh my! Oh my! Oh my! It's already the 30th tap takeover organised at Le Barboteur - Bièrothèque!!! 🍻👀 For this very special occasion\, we'll host Brussels new jewel La Source Beer Co with loads of new exciting and fresh beers. And even more WOW\, the brewery will present 3 (YES 3) test beers amongst which you'll be able to vote for the one you prefer to become our 2nd house beer after our beloved Ipa de Papa 🍻👀🍻👀 And ffor the sport\, DJ Duke will bring the heat to our aquarium with a fine selection of rock'n'roll djeeing!
URL:https://beer.be/agenda/brewers-delight-30-la-source-vote-for-housebeer-dj-duke/
LOCATION:Barboteur\, 23 avenue Louis Bertrand\, Bruxelles\, Schaerbeek\, 1030\, Belgique
CATEGORIES:Barboteur
ATTACH;FMTTYPE=image/jpeg:https://beer.be/wp-content/uploads/2020/03/87778012_1426291437552896_5073742534321111040_o.jpg
END:VEVENT
END:VCALENDAR