BEGIN:VCALENDAR
VERSION:2.0
PRODID:-//Beer.be - ECPv6.15.20//NONSGML v1.0//EN
CALSCALE:GREGORIAN
METHOD:PUBLISH
X-WR-CALNAME:Beer.be
X-ORIGINAL-URL:https://beer.be
X-WR-CALDESC:Évènements pour Beer.be
REFRESH-INTERVAL;VALUE=DURATION:PT1H
X-Robots-Tag:noindex
X-PUBLISHED-TTL:PT1H
BEGIN:VTIMEZONE
TZID:Europe/Brussels
BEGIN:DAYLIGHT
TZOFFSETFROM:+0100
TZOFFSETTO:+0200
TZNAME:CEST
DTSTART:20200329T010000
END:DAYLIGHT
BEGIN:STANDARD
TZOFFSETFROM:+0200
TZOFFSETTO:+0100
TZNAME:CET
DTSTART:20201025T010000
END:STANDARD
BEGIN:DAYLIGHT
TZOFFSETFROM:+0100
TZOFFSETTO:+0200
TZNAME:CEST
DTSTART:20210328T010000
END:DAYLIGHT
BEGIN:STANDARD
TZOFFSETFROM:+0200
TZOFFSETTO:+0100
TZNAME:CET
DTSTART:20211031T010000
END:STANDARD
BEGIN:DAYLIGHT
TZOFFSETFROM:+0100
TZOFFSETTO:+0200
TZNAME:CEST
DTSTART:20220327T010000
END:DAYLIGHT
BEGIN:STANDARD
TZOFFSETFROM:+0200
TZOFFSETTO:+0100
TZNAME:CET
DTSTART:20221030T010000
END:STANDARD
END:VTIMEZONE
BEGIN:VEVENT
DTSTART;VALUE=DATE:20211015
DTEND;VALUE=DATE:20211016
DTSTAMP:20260421T072127
CREATED:20210929T055532Z
LAST-MODIFIED:20210929T055532Z
UID:17784-1634256000-1634342399@beer.be
SUMMARY:THE GLÜCKS + WARM EXIT + SALAD’ TOUT
DESCRIPTION:LA SOURCE'S BIRTHDAY : TWO\nconcert anniversaire 2/4\nTHE GLÜCKS + WARM EXIT + SALAD’ TOUT\n------------------------------------\nTHE GLÜCKS\nhttps://theglucks.bandcamp.com/\nhttps://www.youtube.com/watch?v=Mqm8K1aK2BM\nWARM EXIT\nhttps://warmexit.bandcamp.com/album/s-t-7\nSALAD' TOUT\n------------------------------------\nBAR - 16:00\nCONCERT - 20:00\n------------------------------------\nFREE CONCERT\nprésentation du Covid Safe Ticket*\nSANS RESERVATION
URL:https://beer.be/agenda/the-glucks-warm-exit-salad-tout/
LOCATION:La Source Beer Co.\, 4 rue Dieudonné Lefèvre\, Bruxelles\, 1020\, Belgique
CATEGORIES:Concert
ATTACH;FMTTYPE=image/jpeg:https://beer.be/wp-content/uploads/2021/09/243279863_958126951412340_6995835715593059901_n.jpg
END:VEVENT
END:VCALENDAR