BEGIN:VCALENDAR
VERSION:2.0
PRODID:-//Beer.be - ECPv6.15.20//NONSGML v1.0//EN
CALSCALE:GREGORIAN
METHOD:PUBLISH
X-ORIGINAL-URL:https://beer.be
X-WR-CALDESC:Évènements pour Beer.be
REFRESH-INTERVAL;VALUE=DURATION:PT1H
X-Robots-Tag:noindex
X-PUBLISHED-TTL:PT1H
BEGIN:VTIMEZONE
TZID:Europe/Brussels
BEGIN:DAYLIGHT
TZOFFSETFROM:+0100
TZOFFSETTO:+0200
TZNAME:CEST
DTSTART:20180325T010000
END:DAYLIGHT
BEGIN:STANDARD
TZOFFSETFROM:+0200
TZOFFSETTO:+0100
TZNAME:CET
DTSTART:20181028T010000
END:STANDARD
BEGIN:DAYLIGHT
TZOFFSETFROM:+0100
TZOFFSETTO:+0200
TZNAME:CEST
DTSTART:20190331T010000
END:DAYLIGHT
BEGIN:STANDARD
TZOFFSETFROM:+0200
TZOFFSETTO:+0100
TZNAME:CET
DTSTART:20191027T010000
END:STANDARD
BEGIN:DAYLIGHT
TZOFFSETFROM:+0100
TZOFFSETTO:+0200
TZNAME:CEST
DTSTART:20200329T010000
END:DAYLIGHT
BEGIN:STANDARD
TZOFFSETFROM:+0200
TZOFFSETTO:+0100
TZNAME:CET
DTSTART:20201025T010000
END:STANDARD
END:VTIMEZONE
BEGIN:VEVENT
DTSTART;VALUE=DATE:20190504
DTEND;VALUE=DATE:20190505
DTSTAMP:20260424T160849
CREATED:20190325T133640Z
LAST-MODIFIED:20190325T133640Z
UID:13621-1556928000-1557014399@beer.be
SUMMARY:The Wild Toer de Geuze
DESCRIPTION:Notez ce rendez-vous avec l'histoire dans votre agenda. Le samedi 4 mai à 8h30 heure locale\, le Schaarbeekse Kriekenboomsage lançe une mission habitée de Schaerbeek vers la vallée de la Senne et le Pajottenland. Ce voyage d’étude en autocar comprend des visites de un brasseur de lambic et deux gueuzeries\, accompagnés des visites guidées et dégustations nécessaires. Venez saluer la compagnie ou joignez le autocar! \nProgramme\n- Brouwerij 3 Fonteinen & lambik-O-droom (Lot)\n- Gueuzerie Tilquin (Bierghes)\n- Oude Geuzestekerij De Cam Gooik \nPratique\n- Départ et arrivée : Le Barboteur (Avenue Louis Bertrand 23\, 1030 Schaerbeek)\n- Rendez-vous à partir de 8h / départ bus à 8h30 / retour vers 18h \nParticipation\n- 25€ par personne\n- inclus: voyage en bus + 3 visites et dégustations + t-shirt + extras\n- le nombre de places est limité à 50 personnes\n- seul le paiement compte comme inscription\n- no show = no refund \nInscription\n- possible à partir du vendredi 22 mars via le lien ticketing\nCet activité est rendu possible grâce au support et collaboration de De Kriekelaar GC\, Le Barboteur - Bièrothèque\, 1030cultuur\, Kriekenboomsage et Buumplanters.
URL:https://beer.be/agenda/the-wild-toer-de-geuze/
LOCATION:Barboteur\, 23 avenue Louis Bertrand\, Bruxelles\, Schaerbeek\, 1030\, Belgique
CATEGORIES:Brasserie
ATTACH;FMTTYPE=image/jpeg:https://beer.be/wp-content/uploads/2019/03/54278931_2026486560793857_2355651053455671296_o.jpg
END:VEVENT
BEGIN:VEVENT
DTSTART;VALUE=DATE:20190504
DTEND;VALUE=DATE:20190506
DTSTAMP:20260424T160849
CREATED:20190502T142012Z
LAST-MODIFIED:20190502T142012Z
UID:13841-1556928000-1557100799@beer.be
SUMMARY:Toer de Geuze 2019
DESCRIPTION:La 12ième édition du ‘Toer de Geuze’ aura lieu le samedi 4 mai et le dimanche 5 mai 2019. Les heures d’ouvertures seront de 11h à 19h le samedi et de 10h à 17h le dimanche. Les prochaines brasseries et gueuzeries ouvriront leurs portes le samedi : Boon\, De Troch\, Lindemans\, Oud Beersel\, Tilquin et Timmermans. De Cam\, Hanssens et Mort Subite NE seront PAS ouvertes le samedi. Seront ouvertes le dimanche : Boon\, De Cam\, De Troch\, Hanssens\, Lindemans\, Mort Subite\, Oud Beersel\, Tilquin\, Timmermans. Le centre de visite De Lambiek sera ouvert samedi et dimanche.\nL’entrée des brasseries et gueuzeries participantes et du centre de visite De Lambiek est entièrement gratuite.\nVous pouvez faire le ‘Toer de Geuze’ par votre propre moyen de transport (voiture\, vélo\, ...) ou vous pouvez réserver une place sur un des bus-HORAL. Le système de réservation des bus-HORAL sera en ligne à partir de vendredi le 3 janvier 2019 à 11h (CET).\nVoir: www.horal.be/fr/toer-de-geuze
URL:https://beer.be/agenda/toer-de-geuze-2019/
CATEGORIES:Festival
ATTACH;FMTTYPE=image/jpeg:https://beer.be/wp-content/uploads/2019/05/58441151_1157399391050720_8469291494686064640_o.jpg
END:VEVENT
END:VCALENDAR