BEGIN:VCALENDAR
VERSION:2.0
PRODID:-//Beer.be - ECPv6.15.20//NONSGML v1.0//EN
CALSCALE:GREGORIAN
METHOD:PUBLISH
X-ORIGINAL-URL:https://beer.be
X-WR-CALDESC:Évènements pour Beer.be
REFRESH-INTERVAL;VALUE=DURATION:PT1H
X-Robots-Tag:noindex
X-PUBLISHED-TTL:PT1H
BEGIN:VTIMEZONE
TZID:Europe/Brussels
BEGIN:DAYLIGHT
TZOFFSETFROM:+0100
TZOFFSETTO:+0200
TZNAME:CEST
DTSTART:20200329T010000
END:DAYLIGHT
BEGIN:STANDARD
TZOFFSETFROM:+0200
TZOFFSETTO:+0100
TZNAME:CET
DTSTART:20201025T010000
END:STANDARD
BEGIN:DAYLIGHT
TZOFFSETFROM:+0100
TZOFFSETTO:+0200
TZNAME:CEST
DTSTART:20210328T010000
END:DAYLIGHT
BEGIN:STANDARD
TZOFFSETFROM:+0200
TZOFFSETTO:+0100
TZNAME:CET
DTSTART:20211031T010000
END:STANDARD
BEGIN:DAYLIGHT
TZOFFSETFROM:+0100
TZOFFSETTO:+0200
TZNAME:CEST
DTSTART:20220327T010000
END:DAYLIGHT
BEGIN:STANDARD
TZOFFSETFROM:+0200
TZOFFSETTO:+0100
TZNAME:CET
DTSTART:20221030T010000
END:STANDARD
END:VTIMEZONE
BEGIN:VEVENT
DTSTART;VALUE=DATE:20210903
DTEND;VALUE=DATE:20210906
DTSTAMP:20260425T180730
CREATED:20210902T074313Z
LAST-MODIFIED:20210902T074313Z
UID:17504-1630627200-1630886399@beer.be
SUMMARY:TOUR & TAXIS TAP TAKE OVER
DESCRIPTION:Back to school ! Café Maison du Peuple is pleased to welcome a Tap Takeover event in collaboration with three of our favorite Brussels-based breweries : La Brasserie de la Senne\, En Stoemelings & La Source.\nBeers available in kegs :\n- Brussels Calling\n- Brusseleir\n- Jawa IPA\n- Saison Hoppy Bunny\n- Pigeon\n- Meute\nHope to see you all there!
URL:https://beer.be/agenda/tour-taxis-tap-take-over/
LOCATION:Café Maison du Peuple\, 33 Parvis de Saint-Gilles\, Bruxelles\, 1060\, Belgique
CATEGORIES:Tap Takeover
ATTACH;FMTTYPE=image/jpeg:https://beer.be/wp-content/uploads/2021/09/241137942_10159952102297608_2398464540750174157_n.jpg
END:VEVENT
END:VCALENDAR