BEGIN:VCALENDAR
VERSION:2.0
PRODID:-//Beer.be - ECPv6.15.20//NONSGML v1.0//EN
CALSCALE:GREGORIAN
METHOD:PUBLISH
X-WR-CALNAME:Beer.be
X-ORIGINAL-URL:https://beer.be
X-WR-CALDESC:Évènements pour Beer.be
REFRESH-INTERVAL;VALUE=DURATION:PT1H
X-Robots-Tag:noindex
X-PUBLISHED-TTL:PT1H
BEGIN:VTIMEZONE
TZID:Europe/Brussels
BEGIN:DAYLIGHT
TZOFFSETFROM:+0100
TZOFFSETTO:+0200
TZNAME:CEST
DTSTART:20190331T010000
END:DAYLIGHT
BEGIN:STANDARD
TZOFFSETFROM:+0200
TZOFFSETTO:+0100
TZNAME:CET
DTSTART:20191027T010000
END:STANDARD
BEGIN:DAYLIGHT
TZOFFSETFROM:+0100
TZOFFSETTO:+0200
TZNAME:CEST
DTSTART:20200329T010000
END:DAYLIGHT
BEGIN:STANDARD
TZOFFSETFROM:+0200
TZOFFSETTO:+0100
TZNAME:CET
DTSTART:20201025T010000
END:STANDARD
BEGIN:DAYLIGHT
TZOFFSETFROM:+0100
TZOFFSETTO:+0200
TZNAME:CEST
DTSTART:20210328T010000
END:DAYLIGHT
BEGIN:STANDARD
TZOFFSETFROM:+0200
TZOFFSETTO:+0100
TZNAME:CET
DTSTART:20211031T010000
END:STANDARD
END:VTIMEZONE
BEGIN:VEVENT
DTSTART;VALUE=DATE:20200925
DTEND;VALUE=DATE:20200926
DTSTAMP:20260421T120433
CREATED:20200907T065406Z
LAST-MODIFIED:20200907T065406Z
UID:15765-1600992000-1601078399@beer.be
SUMMARY:UILTJE TTO
DESCRIPTION:Vrijdag 25/9 vliegen er enkele Haarlemse uilen tijdens hun zuiderse trektocht binnen in onze brouwerij om samen met ons te brouwen en zich 's avonds te nestelen op onze tapkranen. Uiltje Brewing Company heeft weinig introductie nodig\, bekend van de onder andere de verste IPA's van Nederland en ver daarbuiten\, en al jaren prominent aanwezig in de craftbeerscene. Van hopbommetjes tot barrel aged geweld\, geloof ons dit wordt zo'n avondje om niet snel te vergeten.
URL:https://beer.be/agenda/uiltje-tto/
LOCATION:DOK Brewing Company\, 4B Dok Noord\, Gent\, 9000\, Belgique
CATEGORIES:Tap Takeover
ATTACH;FMTTYPE=image/jpeg:https://beer.be/wp-content/uploads/2020/09/118798113_757135378411583_997979275011630735_n.jpg
END:VEVENT
END:VCALENDAR