BEGIN:VCALENDAR
VERSION:2.0
PRODID:-//Beer.be - ECPv6.15.20//NONSGML v1.0//EN
CALSCALE:GREGORIAN
METHOD:PUBLISH
X-ORIGINAL-URL:https://beer.be
X-WR-CALDESC:Évènements pour Beer.be
REFRESH-INTERVAL;VALUE=DURATION:PT1H
X-Robots-Tag:noindex
X-PUBLISHED-TTL:PT1H
BEGIN:VTIMEZONE
TZID:Europe/Brussels
BEGIN:DAYLIGHT
TZOFFSETFROM:+0100
TZOFFSETTO:+0200
TZNAME:CEST
DTSTART:20180325T010000
END:DAYLIGHT
BEGIN:STANDARD
TZOFFSETFROM:+0200
TZOFFSETTO:+0100
TZNAME:CET
DTSTART:20181028T010000
END:STANDARD
BEGIN:DAYLIGHT
TZOFFSETFROM:+0100
TZOFFSETTO:+0200
TZNAME:CEST
DTSTART:20190331T010000
END:DAYLIGHT
BEGIN:STANDARD
TZOFFSETFROM:+0200
TZOFFSETTO:+0100
TZNAME:CET
DTSTART:20191027T010000
END:STANDARD
BEGIN:DAYLIGHT
TZOFFSETFROM:+0100
TZOFFSETTO:+0200
TZNAME:CEST
DTSTART:20200329T010000
END:DAYLIGHT
BEGIN:STANDARD
TZOFFSETFROM:+0200
TZOFFSETTO:+0100
TZNAME:CET
DTSTART:20201025T010000
END:STANDARD
END:VTIMEZONE
BEGIN:VEVENT
DTSTART;VALUE=DATE:20190330
DTEND;VALUE=DATE:20190331
DTSTAMP:20260424T225709
CREATED:20190131T121429Z
LAST-MODIFIED:20190131T121429Z
UID:13160-1553904000-1553990399@beer.be
SUMMARY:Initiation à la zythologie
DESCRIPTION:Vous aimez la bière ? Et vous voulez en apprendre plus sur ce produit qui fait notre fierté en Belgique ? Cette séance initiation à la zythologie est faite pour vous ! Egalement spécialisée en zythologie\, l'école d'œnologie bruxelloise Inter Wine & Dine (IWD) vous propose d'apprendre les principales bases de la zythologie et de la dégustation en 1 séance seulement. \nPendant cette séance\, vous apprendrez la fabrication de la bière et ses différentes typologies. Vous découvrirez également les pratiques et les astuces sur son achat\, sa conservation et son service. Sans oublier l'art de la dégustation de la bière que vous apprendrez de manière théorique à travers un exposé\, et de manière pratique avec une dégustation prévue d'un large et riche panel de bières. \nC'est sur le campus Solbosch de l'Université Libre de Bruxelles que vous retrouverez Arnaud\, notre professeur zythologue\, et l'équipe IWD pour passer un bel après-midi en toute convivialité !
URL:https://beer.be/agenda/initiation-a-la-zythologie/
LOCATION:ULB\, Campus du Solbosch\, Bruxelles\, 1050\, Belgique
CATEGORIES:Dégustation
ATTACH;FMTTYPE=image/png:https://beer.be/wp-content/uploads/2019/01/51138316_10161432181125261_4158632144828104704_n.png
END:VEVENT
END:VCALENDAR