BEGIN:VCALENDAR
VERSION:2.0
PRODID:-//Beer.be - ECPv6.15.20//NONSGML v1.0//EN
CALSCALE:GREGORIAN
METHOD:PUBLISH
X-WR-CALNAME:Beer.be
X-ORIGINAL-URL:https://beer.be
X-WR-CALDESC:Évènements pour Beer.be
REFRESH-INTERVAL;VALUE=DURATION:PT1H
X-Robots-Tag:noindex
X-PUBLISHED-TTL:PT1H
BEGIN:VTIMEZONE
TZID:Europe/Brussels
BEGIN:DAYLIGHT
TZOFFSETFROM:+0100
TZOFFSETTO:+0200
TZNAME:CEST
DTSTART:20180325T010000
END:DAYLIGHT
BEGIN:STANDARD
TZOFFSETFROM:+0200
TZOFFSETTO:+0100
TZNAME:CET
DTSTART:20181028T010000
END:STANDARD
BEGIN:DAYLIGHT
TZOFFSETFROM:+0100
TZOFFSETTO:+0200
TZNAME:CEST
DTSTART:20190331T010000
END:DAYLIGHT
BEGIN:STANDARD
TZOFFSETFROM:+0200
TZOFFSETTO:+0100
TZNAME:CET
DTSTART:20191027T010000
END:STANDARD
BEGIN:DAYLIGHT
TZOFFSETFROM:+0100
TZOFFSETTO:+0200
TZNAME:CEST
DTSTART:20200329T010000
END:DAYLIGHT
BEGIN:STANDARD
TZOFFSETFROM:+0200
TZOFFSETTO:+0100
TZNAME:CET
DTSTART:20201025T010000
END:STANDARD
END:VTIMEZONE
BEGIN:VEVENT
DTSTART;VALUE=DATE:20191206
DTEND;VALUE=DATE:20191207
DTSTAMP:20260423T072446
CREATED:20191122T091906Z
LAST-MODIFIED:20191122T091906Z
UID:14654-1575590400-1575676799@beer.be
SUMMARY:Discovery : Borinage & Vermeersch + Mat Lion's last service
DESCRIPTION:👋 😜 Salut peuple du Moeder Lambic Original. C'est « La Der des Ders » de Mathieu Lion\, sa dernière soirée de service au Moeder Original. 🍻\nPour cette soirée\, deux brasseries seront mises à l'honneur\n• La Brasserie du Borinage :\n- https://untappd.com/w/brasserie-du-borinage/422566\n- www.instagram.com/brasserieduborinage\n• Brouwerij Vermeersch :\n- https://untappd.com/Vermeersch\n- www.instagram.com/vermeersch.bier\n🍻🇧🇪\nRejoignez-nous le vendredi 6 décembre dès 18.00 🥳🍾 \n🍺 Vermeersch:\n• 24 x Jacques (gueuze)\n• 24 x Marie (abricots)\n• 24 x Lisa (prunes)\n• 16 x Alice (cérises)\n• 8 x Orvalliblend (lambic + Orval) \n🍺 Borinage:\n• Urine (double IPA)\n• Sunlight des tropiques (session IPA)\n• Boriner vice (berliner weisse)\n• Kentucky waterfall (pilsner)\n• Mary rose (bière au potiron)\n• 1 surprise (saison blendé avec du cidre) \n🎼 Concert de "Emeline tout court" 🎤www.youtube.com/watch?v=8RS71-7X4_8
URL:https://beer.be/agenda/discovery-borinage-vermeersch-mat-lions-last-service/
LOCATION:Moeder Lambic Fontainas\, 8 place Fontainas\, Bruxelles\, Bruxelles\, 1000\, Belgique
CATEGORIES:Moeder Lambic
ATTACH;FMTTYPE=image/jpeg:https://beer.be/wp-content/uploads/2019/11/77116651_968806826821968_5659464382870978560_n.jpg
END:VEVENT
END:VCALENDAR