BEGIN:VCALENDAR
VERSION:2.0
PRODID:-//Beer.be - ECPv6.15.20//NONSGML v1.0//EN
CALSCALE:GREGORIAN
METHOD:PUBLISH
X-WR-CALNAME:Beer.be
X-ORIGINAL-URL:https://beer.be
X-WR-CALDESC:Évènements pour Beer.be
REFRESH-INTERVAL;VALUE=DURATION:PT1H
X-Robots-Tag:noindex
X-PUBLISHED-TTL:PT1H
BEGIN:VTIMEZONE
TZID:Europe/Brussels
BEGIN:DAYLIGHT
TZOFFSETFROM:+0100
TZOFFSETTO:+0200
TZNAME:CEST
DTSTART:20190331T010000
END:DAYLIGHT
BEGIN:STANDARD
TZOFFSETFROM:+0200
TZOFFSETTO:+0100
TZNAME:CET
DTSTART:20191027T010000
END:STANDARD
BEGIN:DAYLIGHT
TZOFFSETFROM:+0100
TZOFFSETTO:+0200
TZNAME:CEST
DTSTART:20200329T010000
END:DAYLIGHT
BEGIN:STANDARD
TZOFFSETFROM:+0200
TZOFFSETTO:+0100
TZNAME:CET
DTSTART:20201025T010000
END:STANDARD
BEGIN:DAYLIGHT
TZOFFSETFROM:+0100
TZOFFSETTO:+0200
TZNAME:CEST
DTSTART:20210328T010000
END:DAYLIGHT
BEGIN:STANDARD
TZOFFSETFROM:+0200
TZOFFSETTO:+0100
TZNAME:CET
DTSTART:20211031T010000
END:STANDARD
END:VTIMEZONE
BEGIN:VEVENT
DTSTART;VALUE=DATE:20200215
DTEND;VALUE=DATE:20200216
DTSTAMP:20260424T031713
CREATED:20200211T172906Z
LAST-MODIFIED:20200211T172906Z
UID:15057-1581724800-1581811199@beer.be
SUMMARY:Vinyl & Craft Beers
DESCRIPTION:The 15th of February we are hosting another event with vinyl and loads of craft beer. This time Chantal and I are also celebrating our 15th anniversary together :O You are invited to celebrate this special occasion with us\, starting at 19.00h. We will have some nice bottles to share whilst our dear friend David AKA Wicked is playing some groovy bits on the decks.
URL:https://beer.be/agenda/vinyl-craft-beers/
LOCATION:Station 1280\, Pelikaanstraat 3 bus 1280\, Anvers\, 2018\, Belgique
CATEGORIES:Autre
ATTACH;FMTTYPE=image/jpeg:https://beer.be/wp-content/uploads/2020/02/84568975_616109705622468_521595976775892992_o.jpg
END:VEVENT
END:VCALENDAR