BEGIN:VCALENDAR
VERSION:2.0
PRODID:-//Beer.be - ECPv6.15.20//NONSGML v1.0//EN
CALSCALE:GREGORIAN
METHOD:PUBLISH
X-ORIGINAL-URL:https://beer.be
X-WR-CALDESC:Évènements pour Beer.be
REFRESH-INTERVAL;VALUE=DURATION:PT1H
X-Robots-Tag:noindex
X-PUBLISHED-TTL:PT1H
BEGIN:VTIMEZONE
TZID:Europe/Brussels
BEGIN:DAYLIGHT
TZOFFSETFROM:+0100
TZOFFSETTO:+0200
TZNAME:CEST
DTSTART:20200329T010000
END:DAYLIGHT
BEGIN:STANDARD
TZOFFSETFROM:+0200
TZOFFSETTO:+0100
TZNAME:CET
DTSTART:20201025T010000
END:STANDARD
BEGIN:DAYLIGHT
TZOFFSETFROM:+0100
TZOFFSETTO:+0200
TZNAME:CEST
DTSTART:20210328T010000
END:DAYLIGHT
BEGIN:STANDARD
TZOFFSETFROM:+0200
TZOFFSETTO:+0100
TZNAME:CET
DTSTART:20211031T010000
END:STANDARD
BEGIN:DAYLIGHT
TZOFFSETFROM:+0100
TZOFFSETTO:+0200
TZNAME:CEST
DTSTART:20220327T010000
END:DAYLIGHT
BEGIN:STANDARD
TZOFFSETFROM:+0200
TZOFFSETTO:+0100
TZNAME:CET
DTSTART:20221030T010000
END:STANDARD
END:VTIMEZONE
BEGIN:VEVENT
DTSTART;VALUE=DATE:20210911
DTEND;VALUE=DATE:20210913
DTSTAMP:20260424T183805
CREATED:20210611T054518Z
LAST-MODIFIED:20210611T054518Z
UID:16810-1631318400-1631491199@beer.be
SUMMARY:WANDERLUST // BBP 8th Anniversary Festival
DESCRIPTION:Let's celebrate our 8th anniversary back at Sainte Catherine (Vismet square) for an open-air celebration! SMALL breweries - BIG Beers! We'll travel with beautiful breweries from around the world though a wide spectrum of flavors. Stay tuned for the lineup\, we are super excited that our friend brewers will finally be able to travel again. Let’s cheer together in September!
URL:https://beer.be/agenda/wanderlust-bbp-8th-anniversary-festival/
LOCATION:Marché aux poissons\, Marché aux poissons\, Bruxelles\, 1000\, Belgique
CATEGORIES:Festival
ATTACH;FMTTYPE=image/jpeg:https://beer.be/wp-content/uploads/2021/06/198969122_3920704474715373_2923075475616151641_n.jpg
END:VEVENT
END:VCALENDAR