BEGIN:VCALENDAR
VERSION:2.0
PRODID:-//Beer.be - ECPv6.15.20//NONSGML v1.0//EN
CALSCALE:GREGORIAN
METHOD:PUBLISH
X-ORIGINAL-URL:https://beer.be
X-WR-CALDESC:Évènements pour Beer.be
REFRESH-INTERVAL;VALUE=DURATION:PT1H
X-Robots-Tag:noindex
X-PUBLISHED-TTL:PT1H
BEGIN:VTIMEZONE
TZID:Europe/Brussels
BEGIN:DAYLIGHT
TZOFFSETFROM:+0100
TZOFFSETTO:+0200
TZNAME:CEST
DTSTART:20200329T010000
END:DAYLIGHT
BEGIN:STANDARD
TZOFFSETFROM:+0200
TZOFFSETTO:+0100
TZNAME:CET
DTSTART:20201025T010000
END:STANDARD
BEGIN:DAYLIGHT
TZOFFSETFROM:+0100
TZOFFSETTO:+0200
TZNAME:CEST
DTSTART:20210328T010000
END:DAYLIGHT
BEGIN:STANDARD
TZOFFSETFROM:+0200
TZOFFSETTO:+0100
TZNAME:CET
DTSTART:20211031T010000
END:STANDARD
BEGIN:DAYLIGHT
TZOFFSETFROM:+0100
TZOFFSETTO:+0200
TZNAME:CEST
DTSTART:20220327T010000
END:DAYLIGHT
BEGIN:STANDARD
TZOFFSETFROM:+0200
TZOFFSETTO:+0100
TZNAME:CET
DTSTART:20221030T010000
END:STANDARD
END:VTIMEZONE
BEGIN:VEVENT
DTSTART;VALUE=DATE:20210926
DTEND;VALUE=DATE:20210927
DTSTAMP:20260421T071624
CREATED:20210926T071944Z
LAST-MODIFIED:20210926T071944Z
UID:17748-1632614400-1632700799@beer.be
SUMMARY:Festival de la bière de Woluwé Saint-Pierre
DESCRIPTION:Après deux éditions annulées\, le festival de la bière sera enfin de retour sur la Place des Maïeurs le dimanche 26 septembre\, de 11h à 20h. Venez déguster des bières de qualité dans une ambiance musicale et conviviale. \nLes bières proposées seront une nouvelle fois variées\, avec des créations de petites brasseries locales\, des breuvages bio\, des trappistes et des bières belges connues. Blondes\, brunes\, ambrées\, triples\, légères ou plus fortes\, il y en aura pour tous les gouts. \nVous pourrez également vous restaurer dans les établissements Horeca du quartier. \nPlusieurs attractions foraines seront proposées pour vous divertir entre deux bières. Venez tester votre force sur la Mailloche\, le Canon ou le Looping ! De quoi amuser les parents et leurs enfants. \nL’ambiance musicale sera assurée par le Brussels Balkan Orchestra\, qui reprend des perles du répertoire musical populaire de Roumanie\, Bulgarie et Grèce\, pour en restituer une version orchestrale pleine de délicatesse et de sensualité. Le Triporteur\, un nouveau Soundsystem\, vous emmènera quant à lui dans une ambiance Balkan\, Swing\, Afrobeat et bien d’autres… \nInfos pratiques \nTarifs : 1 jeton = 1\,5€ = 1 bière de 16cl. Les verres de dégustation seront disponibles sur place (2€ de caution). Accès gratuit\, vente des jetons sur place. Parking aisé. \nPlus d’infos : 02/773.07.98 – mvuitton@woluwe1150.be \n\n\n\nInformations\nPhone : 02/773.05.36\nE-mail : caguado@woluwe1150.Be\nSite :\nAdresse :  \nPlace des Maïeurs - Woluwe-Saint-Pierre\, 1150
URL:https://beer.be/agenda/festival-de-la-biere-de-woluwe-saint-pierre/
CATEGORIES:Festival
ATTACH;FMTTYPE=image/jpeg:https://beer.be/wp-content/uploads/2021/09/festival_biere_2021.jpg
END:VEVENT
END:VCALENDAR